BEGIN:VCALENDAR
VERSION:2.0
PRODID:-//ChamberMaster//Event Calendar 2.0//EN
METHOD:PUBLISH
X-PUBLISHED-TTL:P3D
REFRESH-INTERVAL:P3D
CALSCALE:GREGORIAN
BEGIN:VEVENT
DTSTART:20170419T220000Z
DTEND:20170420T020000Z
X-MICROSOFT-CDO-ALLDAYEVENT:FALSE
SUMMARY:10th Annual Fraser Valley Chambers of Commerce Business Showcase
DESCRIPTION:You are invited to attend the Fraser Valley's most inclusive\n\nnetworking event of the year!\n\n\n\nPresented by the Fraser Valley Chambers of Commerce:\n\nAbbotsford\, Chilliwack\, Cloverdale\, Langley\, Mission\, Maple Ridge-Pitt Meadows and Surrey\n\n\n\nWant to exhibit?\n\nChamber Member Exhibit Space \n\nStarting at $249\n\nNon-Member Exhibit Space\n\nStarting at $299\n\n\n\nWho should exhibit?\n\n	Fraser Valley businesses small to large\n	Companies with business to business sales\n	Not for profit organizations\n	Home based businesses\n\nWhy should you attend?\n\n\n	Meet hundreds of people from all over the Fraser Valley for the opportunity to expand your network\n	Visit over 60 exhibitor booths\n	Complimentary admission includes refreshments\n\nWant extensive exposure at the show? Contact us for sponsorship information. Don't delay - we sell out every year!\n\n\n\nVisit our website for more information www.abbotsfordchamber.com. Follow us on social media #FVBizShow.
X-ALT-DESC;FMTTYPE=text/html:You are invited to attend the Fraser Valley&rsquo\;s most inclusive<br />\nnetworking event of the year!<br />\n<br />\nPresented by the Fraser Valley Chambers of Commerce:<br />\nAbbotsford\, Chilliwack\, Cloverdale\, Langley\, Mission\, Maple Ridge-Pitt Meadows and Surrey<br />\n<br />\nWant to exhibit?<br />\n<strong>Chamber Member Exhibit Space </strong><br />\nStarting at $249<br />\n<strong>Non-Member Exhibit Space</strong><br />\nStarting at $299<br />\n<br />\nWho should exhibit?\n<ul>\n	<li>Fraser Valley businesses small to large</li>\n	<li>Companies with business to business sales</li>\n	<li>Not for profit organizations</li>\n	<li>Home based businesses</li>\n</ul>\nWhy should you attend?\n\n<ul>\n	<li>Meet hundreds of people from all over the Fraser Valley for the opportunity to expand your network</li>\n	<li>Visit over 60 exhibitor booths</li>\n	<li>Complimentary admission includes refreshments</li>\n</ul>\nWant extensive exposure at the show? Contact us for sponsorship information. Don&#39\;t delay - we sell out every year!<br />\n<br />\nVisit our website for more information www.abbotsfordchamber.com. Follow us on social media #FVBizShow.
LOCATION:Quality Hotel & Conference Centre (36035 North Parallel Road\, Abbotsford)
UID:e.749.5179
SEQUENCE:3
DTSTAMP:20260422T024355Z
URL:https://business.swrbot.com/events/details/10th-annual-fraser-valley-chambers-of-commerce-business-showcase-04-19-2017-5179
END:VEVENT

END:VCALENDAR
