BEGIN:VCALENDAR
VERSION:2.0
PRODID:-//ChamberMaster//Event Calendar 2.0//EN
METHOD:PUBLISH
X-PUBLISHED-TTL:P3D
REFRESH-INTERVAL:P3D
CALSCALE:GREGORIAN
BEGIN:VEVENT
DTSTART;VALUE=DATE:20101021
DTEND;VALUE=DATE:20101023
TRANSP:TRANSPARENT
X-MICROSOFT-CDO-ALLDAYEVENT:TRUE
SUMMARY:2010 Community - Schools Partnership Conference
DESCRIPTION:2010 Community - Schools Partnership Conference\n\nThe Future Lives Here....Uniting Schools & Communities\n\n\n\nRegister now for the 2010 Community ? Schools Partnership conference and discover the combined power of partnership and how with a shared vision for the future we can align and coordinate resources to ensure student achievement\, engagement and success.\n\n\n\nThe Community ? Schools Partnership supports student achievement by addressing barriers to learning and development\, facilitating the provision of extended learning and enrichment opportunities\, and building an increased sense of belonging and connection to supports within the community allowing teachers to teach\, learners to learn and families to thrive.
X-ALT-DESC;FMTTYPE=text/html:2010 Community - Schools Partnership Conference\n<br>The Future Lives Here....Uniting Schools &amp\; Communities\n<br>\n<br>Register now for the 2010 Community ? Schools Partnership conference and discover the combined power of partnership and how with a shared vision for the future we can align and coordinate resources to ensure student achievement\, engagement and success.\n<br>\n<br>The Community ? Schools Partnership supports student achievement by addressing barriers to learning and development\, facilitating the provision of extended learning and enrichment opportunities\, and building an increased sense of belonging and connection to supports within the community allowing teachers to teach\, learners to learn and families to thrive.\n<br>
LOCATION:Bell Performing Arts Centre - 6250 - 144 Street\, Surrey\, BC
UID:e.749.1696
SEQUENCE:3
DTSTAMP:20260422T145835Z
URL:https://business.swrbot.com/events/details/2010-community-schools-partnership-conference-10-21-2010-1696
END:VEVENT

END:VCALENDAR
