BEGIN:VCALENDAR
VERSION:2.0
PRODID:-//ChamberMaster//Event Calendar 2.0//EN
METHOD:PUBLISH
X-PUBLISHED-TTL:P3D
REFRESH-INTERVAL:P3D
CALSCALE:GREGORIAN
BEGIN:VEVENT
DTSTART:20140301T180000Z
DTEND:20140301T230000Z
X-MICROSOFT-CDO-ALLDAYEVENT:FALSE
SUMMARY:2014 DIversity Health Fair
DESCRIPTION:The Vancouver Diversity Health Fair (put on by the Affliation of Multicultural Societies and Service Agencies of BC) brings together people from the Lower Mainland's ethno-cultural communities and is the largest multicultural health fair in Canada. This free community event features over fifty exhibitors from community health-related organizations\, multicultural entertainment\, free health screenings\, a Healthy Kids Activity Zone and cooking demonstrations. In March 2013 over 3500 people attended the Fair.  The Fair's objective is to bridge the gap between Vancouver's diverse communities and the health care resources they need.
X-ALT-DESC;FMTTYPE=text/html:<p class="MsoBodyText" style="margin: 0in 0in 0pt">\n	<span style="font-family: 'Arial'\, 'sans-serif'\; font-size: 10pt"><font color="#000000">The Vancouver Diversity Health Fair (put on by the Affliation of Multicultural Societies and Service Agencies of BC) brings together people from the Lower Mainland&rsquo\;s ethno-cultural communities and is the largest multicultural health fair in Canada. This free community event features over fifty exhibitors from community health-related organizations\, multicultural entertainment\, free health screenings\, a Healthy Kids Activity Zone and cooking demonstrations. In March 2013 over 3500 people attended the Fair.&nbsp\;&nbsp\;</font></span><span style="font-family: 'Arial'\, 'sans-serif'\; font-size: 10pt"><font color="#000000"><span style="font-family: 'Arial'\, 'sans-serif'\; font-size: 10pt\; mso-fareast-font-family: Calibri\; mso-fareast-theme-font: minor-latin\; mso-ansi-language: EN-US\; mso-fareast-language: EN-US\; mso-bidi-language: AR-SA">The Fair&rsquo\;s objective is to bridge the gap between Vancouver&rsquo\;s diverse communities and the health care resources they need.</span> </font></span></p>\n
LOCATION:Croatian Cultural Centre 3250 Commercial Dr\, Vancouver\, BC V5N
UID:e.749.2544
SEQUENCE:3
DTSTAMP:20260426T010604Z
URL:https://business.swrbot.com/events/details/2014-diversity-health-fair-03-01-2014-2544
END:VEVENT

END:VCALENDAR
