BEGIN:VCALENDAR
VERSION:2.0
PRODID:-//ChamberMaster//Event Calendar 2.0//EN
METHOD:PUBLISH
X-PUBLISHED-TTL:P3D
REFRESH-INTERVAL:P3D
CALSCALE:GREGORIAN
BEGIN:VEVENT
DTSTART:20180428T193000Z
DTEND:20180428T210000Z
X-MICROSOFT-CDO-ALLDAYEVENT:FALSE
SUMMARY:2018 Surrey Crime Prevention Annual Volunteer Recognition Awards
DESCRIPTION:This awards ceremony recognizes our volunteers who continue to demonstrate their commitment to community safety while delivering our many programs. Over the past three years our volunteers have generously contributed over 95\,000 towards community safety in Surrey.
X-ALT-DESC;FMTTYPE=text/html:This awards ceremony recognizes our volunteers who continue to demonstrate their commitment to community safety while delivering our many programs. Over the past three years our volunteers have generously contributed over 95\,000 towards community safety in Surrey.
LOCATION:Cloverdale Rodeo Grounds\, Shannon Hall
UID:e.749.7823
SEQUENCE:3
DTSTAMP:20260421T114756Z
URL:https://business.swrbot.com/events/details/2018-surrey-crime-prevention-annual-volunteer-recognition-awards-04-28-2018-7823
END:VEVENT

END:VCALENDAR
