BEGIN:VCALENDAR
VERSION:2.0
PRODID:-//ChamberMaster//Event Calendar 2.0//EN
METHOD:PUBLISH
X-PUBLISHED-TTL:P3D
REFRESH-INTERVAL:P3D
CALSCALE:GREGORIAN
BEGIN:VEVENT
DTSTART:20140419T180000Z
DTEND:20140419T220000Z
X-MICROSOFT-CDO-ALLDAYEVENT:FALSE
SUMMARY:2nd annual Easter Egg-Stravaganza
DESCRIPTION:Bring your family to the 2nd Annual Easter egg-Stravaganza at Maan Farms! Free admission to face painting\, play area\, crafts\, critter corral and much more!\n\nParticipate in the eggs hunt   $5 a child!\n\nBring your own basket and best one will win a prize! Many door prizes available!\n\nFor more informations visit www.maanfarms.com
X-ALT-DESC;FMTTYPE=text/html:<p style="color: rgb(0\, 0\, 0)\; font-family: UICTFontTextStyleBody\; font-size: 17px\; line-height: normal\; box-sizing: border-box\; margin: 0px 0px 20px\; padding: 0px\; outline: none\;"><span style="-webkit-text-size-adjust: auto\;">Bring your</span><span style="background-color: rgba(255\, 255\, 255\, 0)\; -webkit-text-size-adjust: auto\;">&nbsp\;family to the 2nd Annual Easter egg-Stravaganza at Maan Farms! Free admission to face painting\, play area\, crafts\, critter corral and much more!</span></p>\n\n<p style="color: rgb(0\, 0\, 0)\; font-family: UICTFontTextStyleBody\; font-size: 17px\; line-height: normal\; box-sizing: border-box\; margin: 0px 0px 20px\; padding: 0px\; outline: none\;"><span style="-webkit-text-size-adjust: auto\; background-color: rgba(255\, 255\, 255\, 0)\;">Participate in the eggs hunt &ndash\; $5 a child!<br style="box-sizing: border-box\; margin: 0px\; padding: 0px\; outline: none\;" />\nBring your own basket and best one will win a prize! Many door prizes available!</span></p>\n\n<p style="color: rgb(0\, 0\, 0)\; font-family: UICTFontTextStyleBody\; font-size: 17px\; line-height: normal\; box-sizing: border-box\; margin: 0px 0px 20px\; padding: 0px\; outline: none\;"><span style="-webkit-text-size-adjust: auto\; background-color: rgba(255\, 255\, 255\, 0)\;">For more informations visit www.maanfarms.com</span></p>\n\n<div>&nbsp\;</div>\n
LOCATION:790 Mckenzie road abbotsford bc
UID:e.749.2635
SEQUENCE:3
DTSTAMP:20260425T223645Z
URL:https://business.swrbot.com/events/details/2nd-annual-easter-egg-stravaganza-04-19-2014-2635
END:VEVENT

END:VCALENDAR
