BEGIN:VCALENDAR
VERSION:2.0
PRODID:-//ChamberMaster//Event Calendar 2.0//EN
METHOD:PUBLISH
X-PUBLISHED-TTL:P3D
REFRESH-INTERVAL:P3D
CALSCALE:GREGORIAN
BEGIN:VEVENT
DTSTART:20150115T010000Z
DTEND:20150115T030000Z
X-MICROSOFT-CDO-ALLDAYEVENT:FALSE
SUMMARY:2nd Annual SHAVE SANTA Fundraiser for the Surrey Food Bank
DESCRIPTION:This is your chance to meet the man behind the beard. Every donation of $20.00 gives you another chance in the draw to SHAVE SANTA.
X-ALT-DESC;FMTTYPE=text/html:This is your chance to meet the man behind the beard. Every donation of $20.00 gives you another chance in the draw to SHAVE SANTA.
LOCATION:Mark Anthony Academy of Cosmetology 5735 - 203 Street\, Langley\, BC Map: https://goo.gl/maps/z5u4N
UID:e.749.2859
SEQUENCE:3
DTSTAMP:20260425T124354Z
URL:https://business.swrbot.com/events/details/2nd-annual-shave-santa-fundraiser-for-the-surrey-food-bank-01-14-2015-2859
END:VEVENT

END:VCALENDAR
