BEGIN:VCALENDAR
VERSION:2.0
PRODID:-//ChamberMaster//Event Calendar 2.0//EN
METHOD:PUBLISH
X-PUBLISHED-TTL:P3D
REFRESH-INTERVAL:P3D
CALSCALE:GREGORIAN
BEGIN:VEVENT
DTSTART:20140124T170000Z
DTEND:20140125T010000Z
X-MICROSOFT-CDO-ALLDAYEVENT:FALSE
SUMMARY:7 Biggest Mistakes Successful Business Owners Make
DESCRIPTION:There are critical items that business owners are doing everyday that are creating massive risk\, serious exposure and significant legal and financial liability\, and most do not even know it! No matter how successful you are or what your lawyers or accountants are telling you\, this event will open your eyes to the biggest mistakes business owners are making!\n\n\n\nTestimonials\n\n\n\n" Great workshop\, content was practical\, useful and very relevant to business owners in all industries. Colin and Michael cover many of the pit falls that business owners stumble upon and unfortunately learn business lessons by making expensive mistakes. I really enjoyed Colin's presentation on the psychology of sales and how to grow profits and Michael simplifies financial statements and makes meaning of the numbers!!!! I have never attended a workshop that covers so much critical material and all being very important to business owners "\n\nTammy A. Rea I Area Manager I Business Banking | TD Canada Trust I Surrey/Delta District\n\n\n\n" I believe that a lot of business owners have the creativity\, will power and general desire to do well. With this I also believe that they lack the skills and general knowledge that would enable them to be truly successful. This program will allow the business owner to avoid making common mistakes and in the end become a successful business owner a lot sooner. The information provided by Colin and Michael was very valuable and really opened my eyes to a lot of different scenarios that business owners may go through. Starting a business is like baking a cake  If you don't have those key ingredients your cake won't turn out the way you envisioned. "\n\nMonica Marques I Small Business Advisor I TD Canada Trust
X-ALT-DESC;FMTTYPE=text/html:There are critical items that business owners are doing everyday that are creating massive risk\, serious exposure and significant legal and financial liability\, and most do not even know it! No matter how successful you are or what your lawyers or accountants are telling you\, this event will open your eyes to the biggest mistakes business owners are making!<br />\n<br />\nTestimonials<br />\n<br />\n&ldquo\; Great workshop\, content was practical\, useful and very relevant to business owners in all industries. Colin and Michael cover many of the pit falls that business owners stumble upon and unfortunately learn business lessons by making expensive mistakes. I really enjoyed Colin&rsquo\;s presentation on the psychology of sales and how to grow profits and Michael simplifies financial statements and makes meaning of the numbers!!!! I have never attended a workshop that covers so much critical material and all being very important to business owners &rdquo\;<br />\nTammy A. Rea I Area Manager I Business Banking | TD Canada Trust I Surrey/Delta District<br />\n<br />\n&ldquo\; I believe that a lot of business owners have the creativity\, will power and general desire to do well. With this I also believe that they lack the skills and general knowledge that would enable them to be truly successful. This program will allow the business owner to avoid making common mistakes and in the end become a successful business owner a lot sooner. The information provided by Colin and Michael was very valuable and really opened my eyes to a lot of different scenarios that business owners may go through. Starting a business is like baking a cake&hellip\; If you don&rsquo\;t have those key ingredients your cake won&rsquo\;t turn out the way you envisioned. &rdquo\;<br />\nMonica Marques I Small Business Advisor I TD Canada Trust
LOCATION:Sheraton Guildford\, Surrey
UID:e.749.2460
SEQUENCE:3
DTSTAMP:20260426T033840Z
URL:https://business.swrbot.com/events/details/7-biggest-mistakes-successful-business-owners-make-01-24-2014-2460
END:VEVENT

END:VCALENDAR
