BEGIN:VCALENDAR
VERSION:2.0
PRODID:-//ChamberMaster//Event Calendar 2.0//EN
METHOD:PUBLISH
X-PUBLISHED-TTL:P3D
REFRESH-INTERVAL:P3D
CALSCALE:GREGORIAN
BEGIN:VEVENT
DTSTART:20141021T150000Z
DTEND:20141021T170000Z
X-MICROSOFT-CDO-ALLDAYEVENT:FALSE
SUMMARY:8 Strategies for Positive Cash Flow
DESCRIPTION:- Improve cash flow and reduce stress \n\n- Increase Profits\n\n- Improve Productivity\n\n\n\nYou will Learn:\n\n- How to make the cash flow cycle work for you\n\n- 8 Causes of a Cash Flow Crunch and how to prevent it\n\n-  Strategies to improve cash flow quickly\n\n- How to conduct a Cash Flow Analysis
X-ALT-DESC;FMTTYPE=text/html:- Improve cash flow and reduce stress&nbsp\;<br />\n- Increase Profits<br />\n- Improve Productivity<br />\n<br />\nYou will Learn:<br />\n-&nbsp\;How to make the cash flow cycle work for you<br />\n- 8 Causes of a Cash Flow Crunch and how to prevent it<br />\n-&nbsp\; Strategies to&nbsp\;improve cash flow quickly<br />\n- How to conduct a Cash Flow Analysis<br />\n&nbsp\;
LOCATION:TD Canada Trust Boardroom 12898 96 Ave\, Surrey BC
UID:e.749.2782
SEQUENCE:3
DTSTAMP:20260425T151908Z
URL:https://business.swrbot.com/events/details/8-strategies-for-positive-cash-flow-10-21-2014-2782
END:VEVENT

END:VCALENDAR
