BEGIN:VCALENDAR
VERSION:2.0
PRODID:-//ChamberMaster//Event Calendar 2.0//EN
METHOD:PUBLISH
X-PUBLISHED-TTL:P3D
REFRESH-INTERVAL:P3D
CALSCALE:GREGORIAN
BEGIN:VEVENT
DTSTART:20101016T020000Z
DTEND:20101016T040000Z
X-MICROSOFT-CDO-ALLDAYEVENT:FALSE
SUMMARY:Abbotsford Heat's Home Game
DESCRIPTION:The Abbotsford Heat's home opener is coming up Friday night (October 15) at 7:00pm\, and the Surrey Board of Trade wants send you to the game!   We have some tickets to the big game and are making them available to our members based on a first come\, first served basis. If you've never seen professional hockey in our own back yard\, this is your chance!\n\n	 \n\n	To take advantage of this opportunity please respond to Delany Dunn by Friday at 12:00noon by emailing your request to: ddunn@abbotsfordheat.com. Your tickets will then be available for pick up from the Will Call window at the Abbotsford Entertainment and Sports Centre all day Friday.  Good luck and enjoy the game.
X-ALT-DESC;FMTTYPE=text/html:<div>\n	The Abbotsford Heat&rsquo\;s home opener is coming up Friday night (October 15) at 7:00pm\, and the Surrey Board of Trade wants send you to the game! &nbsp\; We have some tickets to the big game and are making them available to our members based on a first come\, first served basis. If you&rsquo\;ve never seen professional hockey in our own back yard\, this is your chance!</div>\n<div>\n	&nbsp\;</div>\n<div>\n	To take advantage of this opportunity please respond to Delany Dunn by Friday at 12:00noon by emailing your request to: ddunn@abbotsfordheat.com. Your tickets will then be available for pick up from the Will Call window at the Abbotsford Entertainment and Sports Centre all day Friday. &nbsp\;Good luck and enjoy the game.</div>\n
LOCATION:
UID:e.749.1698
SEQUENCE:3
DTSTAMP:20260422T150040Z
URL:https://business.swrbot.com/events/details/abbotsford-heat-s-home-game-10-15-2010-1698
END:VEVENT

END:VCALENDAR
