BEGIN:VCALENDAR
VERSION:2.0
PRODID:-//ChamberMaster//Event Calendar 2.0//EN
METHOD:PUBLISH
X-PUBLISHED-TTL:P3D
REFRESH-INTERVAL:P3D
CALSCALE:GREGORIAN
BEGIN:VEVENT
DTSTART:20160420T150000Z
DTEND:20160420T163000Z
X-MICROSOFT-CDO-ALLDAYEVENT:FALSE
SUMMARY:ACI eManifest Webinar
DESCRIPTION:The intent of the ACI program is to provide CBSA officers with electronic data on the cargo\, conveyance\, shipper and importer prior to the shipment's arrival at the border. Canada's ACI eManifest regulations for highway carriers have been in effect since May 6 last year and enforced with AMPS since early 2016. With the January 10\, 2016 deadline in the distance of our rear view mirror\, this 90-minute seminar will serve as a refresher on eManifest submission requirements\, answer remaining questions\, or ones that have come up since the deadline. Non-compliant carriers may already be experiencing additional delays and monetary penalties per load since January 11\, 2016.\n\n\n\nTopics Include\n\n\n	\n		\n			\n			\n				CBSA mandate\n				Registering your carrier code\n				Transmittal times\n				Record keeping\n				Penalties and delays\n				'Proof of Report' vs 'Proof of Release'\n			\n			\n			\n			\n				Filling out an eManifest request form\n				Obtaining an eManifest lead sheet\n				Backup plan\n				Required data elements\n				Exceptions vs exemptions\n				Filing options
X-ALT-DESC;FMTTYPE=text/html:<p style="text-align:justify">The intent of the ACI program is to provide CBSA officers with electronic data on the cargo\, conveyance\, shipper and importer prior to the shipment&#39\;s arrival at the border.&nbsp\;Canada&#39\;s ACI eManifest regulations for highway carriers have been in effect since May 6 last year and enforced with AMPS since early 2016. With the January 10\, 2016 deadline in the distance of our rear view mirror\, this 90-minute seminar will serve as a refresher on eManifest submission requirements\, answer remaining questions\, or ones that have come up since the deadline. Non-compliant carriers may already be experiencing additional delays and monetary penalties per load since January 11\, 2016.</p>\n\n<h3><br />\nTopics Include</h3>\n\n<table style="height:70px\; width:535px">\n	<tbody>\n		<tr>\n			<td>\n			<ul>\n				<li>CBSA mandate</li>\n				<li>Registering your carrier code</li>\n				<li>Transmittal times</li>\n				<li>Record keeping</li>\n				<li>Penalties and delays</li>\n				<li>&#39\;Proof of Report&#39\; vs &#39\;Proof of Release&#39\;</li>\n			</ul>\n			</td>\n			<td>\n			<ul>\n				<li>Filling out an eManifest request form</li>\n				<li>Obtaining an eManifest lead sheet</li>\n				<li>Backup plan</li>\n				<li>Required data elements</li>\n				<li>Exceptions vs exemptions</li>\n				<li>Filing options</li>\n			</ul>\n			</td>\n		</tr>\n	</tbody>\n</table>\n
LOCATION:Online. Any computer or mobile device with an internet connection.
UID:e.749.4809
SEQUENCE:3
DTSTAMP:20260424T065040Z
URL:https://business.swrbot.com/events/details/aci-emanifest-webinar-04-20-2016-4809
END:VEVENT

END:VCALENDAR
