BEGIN:VCALENDAR
VERSION:2.0
PRODID:-//ChamberMaster//Event Calendar 2.0//EN
METHOD:PUBLISH
X-PUBLISHED-TTL:P3D
REFRESH-INTERVAL:P3D
CALSCALE:GREGORIAN
BEGIN:VEVENT
DTSTART:20190323T170000Z
DTEND:20190323T220000Z
X-MICROSOFT-CDO-ALLDAYEVENT:FALSE
SUMMARY:Active Aging Resource Fair
DESCRIPTION:Be a part of the third annual Active Aging Resource Fair. This event brings together local community businesses\, organizations and resources that support healthy active aging in Surrey. Interactive booths will host opportunities where generations can connect and be active and engaged in the community.
X-ALT-DESC;FMTTYPE=text/html:Be a part of the third annual Active Aging Resource Fair. This event brings together local community businesses\, organizations and resources that support healthy active aging in Surrey. Interactive booths will host opportunities where generations can connect and be active and engaged in the community.
LOCATION:Guildford Recreation Centre
UID:e.749.10167
SEQUENCE:3
DTSTAMP:20260420T214141Z
URL:https://business.swrbot.com/events/details/active-aging-resource-fair-03-23-2019-10167
END:VEVENT

END:VCALENDAR
