BEGIN:VCALENDAR
VERSION:2.0
PRODID:-//ChamberMaster//Event Calendar 2.0//EN
METHOD:PUBLISH
X-PUBLISHED-TTL:P3D
REFRESH-INTERVAL:P3D
CALSCALE:GREGORIAN
BEGIN:VEVENT
DTSTART:20170325T160000Z
DTEND:20170325T220000Z
X-MICROSOFT-CDO-ALLDAYEVENT:FALSE
SUMMARY:Active Aging Resource Fair
DESCRIPTION:Be a part of the Active Aging Resource Fair for seniors and adults. This event will bring together local community business\, organizations and resources that support healthy active aging in Surrey. Interactive resource booths will host opportunities where generations can connect and be active and engaged in the community. Learn about new technology and health innovations\, nutrition\, travel\, health\, fitness and overall wellness. The main stage will host live music and performances along with presentations such as 'Nutrition for Heart Health'. Caf  will be available for purchasing lunch or other refreshment options. Door prizes! There are various ways to be involved in this event\; Business exhibitor\, Non-profit exhibitor or sponsorship.
X-ALT-DESC;FMTTYPE=text/html:Be a part of the Active Aging Resource Fair for seniors and adults. This event will bring together local community business\, organizations and resources that support healthy active aging in Surrey. Interactive resource booths will host opportunities where generations can connect and be active and engaged in the community. Learn about new technology and health innovations\, nutrition\, travel\, health\, fitness and overall wellness. The main stage will host live music and performances along with presentations such as &#39\;Nutrition for Heart Health&#39\;. Caf&eacute\; will be available for purchasing lunch or other refreshment options. Door prizes! There are various ways to be involved in this event\; Business exhibitor\, Non-profit exhibitor or sponsorship.
LOCATION:The event will be held at Guildford Recreation Centre\, 15105 - 105A Avenue\, Surrey.
UID:e.749.5142
SEQUENCE:3
DTSTAMP:20260422T034914Z
URL:https://business.swrbot.com/events/details/active-aging-resource-fair-03-25-2017-5142
END:VEVENT

END:VCALENDAR
