BEGIN:VCALENDAR
VERSION:2.0
PRODID:-//ChamberMaster//Event Calendar 2.0//EN
METHOD:PUBLISH
X-PUBLISHED-TTL:P3D
REFRESH-INTERVAL:P3D
CALSCALE:GREGORIAN
BEGIN:VEVENT
DTSTART:20141203T160000Z
DTEND:20141203T200000Z
X-MICROSOFT-CDO-ALLDAYEVENT:FALSE
SUMMARY:Active Shooter Awareness Training
DESCRIPTION:From elementary schools\, to malls\, to gov't facilities\; security and safety professionals are reviewing their practices for responding to the threat of an active shooter/armed intruder incident.  Lexxon Training will provide an introduction to preparing\, responding\, and recovering from such an incident. We will teach the latest in best practice principles and tactics to enhance the safety of your employees\, customers\, and the public.\n\n2 half day sessions 8am - 12:00 noon or 1pm - 5pm
X-ALT-DESC;FMTTYPE=text/html:From elementary schools\, to malls\, to gov&#39\;t facilities\; security and safety professionals are reviewing their practices for responding to the threat of an active shooter/armed intruder incident.&nbsp\; Lexxon Training will provide an introduction to preparing\, responding\, and recovering from such an incident. We will teach the latest in best practice principles and tactics to enhance the safety of your employees\, customers\, and the public.<br />\n2 half day sessions 8am - 12:00 noon or 1pm - 5pm<br />\n&nbsp\;
LOCATION:Lexxon Training Centre 1650 - 13401 - 108th Ave GATEWAY TOWER Surrey\, BC V3T5T3
UID:e.749.2828
SEQUENCE:3
DTSTAMP:20260425T123721Z
URL:https://business.swrbot.com/events/details/active-shooter-awareness-training-12-03-2014-2828
END:VEVENT

END:VCALENDAR
