BEGIN:VCALENDAR
VERSION:2.0
PRODID:-//ChamberMaster//Event Calendar 2.0//EN
METHOD:PUBLISH
X-PUBLISHED-TTL:P3D
REFRESH-INTERVAL:P3D
CALSCALE:GREGORIAN
BEGIN:VEVENT
DTSTART:20140814T160000Z
DTEND:20140814T200000Z
X-MICROSOFT-CDO-ALLDAYEVENT:FALSE
SUMMARY:ACTIVE SHOOTER AWARENESS Workshop
DESCRIPTION:From schools to malls to government facilities and recently here in Surrey - security\, safety\, and emergency management professionals are reviewing their practices for responding to the threat of an "ACTIVE SHOOTER".  Lexxon training will provide attendees an introduction to preparing\, responding and recovering from an active shooter incident.  Participants will review the latest in best practices\, principles and tactics to enhance the safety of employees\, customers\, and the general public.  Attendees will participate in the review of case studies\, interactive lectures\, and hands on application and planning.\n\n\n\nLexxon Training provides transformational workshops that inspire organizational change and personal development for all levels of employees - from the CEO to front-line staff.  We lead the industry with field expert instructors for professional certification and skill development.
X-ALT-DESC;FMTTYPE=text/html:From schools to malls to government facilities and recently here in Surrey - security\, safety\, and emergency management professionals are reviewing their practices for responding to the threat of an &quot\;ACTIVE SHOOTER&quot\;.&nbsp\; Lexxon training will provide attendees an introduction to preparing\, responding and recovering from an active shooter incident.&nbsp\; Participants will review the latest in best practices\, principles and tactics to enhance the safety of employees\, customers\, and the general public.&nbsp\; Attendees will participate in the review of case studies\, interactive lectures\, and hands on application and planning.<br />\n<br />\nLexxon Training provides transformational workshops that inspire organizational change and personal development for all levels of employees - from the CEO to front-line staff.&nbsp\; We lead the industry with field expert instructors for professional certification and skill development.
LOCATION:LEXXON Training #1650 - Station Tower - 13401 - 108th Ave Surrey\, BC
UID:e.749.2688
SEQUENCE:3
DTSTAMP:20260425T175239Z
URL:https://business.swrbot.com/events/details/active-shooter-awareness-workshop-08-14-2014-2688
END:VEVENT

END:VCALENDAR
