BEGIN:VCALENDAR
VERSION:2.0
PRODID:-//ChamberMaster//Event Calendar 2.0//EN
METHOD:PUBLISH
X-PUBLISHED-TTL:P3D
REFRESH-INTERVAL:P3D
CALSCALE:GREGORIAN
BEGIN:VEVENT
DTSTART:20141107T190000Z
DTEND:20141107T213000Z
X-MICROSOFT-CDO-ALLDAYEVENT:FALSE
SUMMARY:Addictions in the Workplace - A luncheon for senior leaders
DESCRIPTION:Join other business and community leaders in an intimate discussion about addiction and its impact on the workplace. Learn from a leading organization that is committed to addressing this pervasive health issue\, and hear from one of Vancouver's top addictions doctors as he describes the impact of addiction on the brain. Michael Bryant\, former Attorney General of Ontario\, will headline the day as he shares his powerful journey to recovery\; it?s a dramatic story of inspiration\, survival\, tough choices\, and transformation. Presented by the Canadian Mental Health Association\, BC Division and presenting sponsor Pacific Blue Cross.
X-ALT-DESC;FMTTYPE=text/html:Join other business and community leaders in an intimate discussion about addiction and its impact on the workplace. Learn from a leading organization that is committed to addressing this pervasive health issue\, and hear from one of Vancouver&#39\;s top addictions doctors as he describes the impact of addiction on the brain. Michael Bryant\, former Attorney General of Ontario\, will headline the day as he shares his powerful journey to recovery\; it?s a dramatic story of inspiration\, survival\, tough choices\, and transformation. Presented by the Canadian Mental Health Association\, BC Division and presenting sponsor Pacific Blue Cross.
LOCATION:Sheraton Wall Centre\, Vancouver
UID:e.749.2810
SEQUENCE:3
DTSTAMP:20260425T140509Z
URL:https://business.swrbot.com/events/details/addictions-in-the-workplace-a-luncheon-for-senior-leaders-11-07-2014-2810
END:VEVENT

END:VCALENDAR
