BEGIN:VCALENDAR
VERSION:2.0
PRODID:-//ChamberMaster//Event Calendar 2.0//EN
METHOD:PUBLISH
X-PUBLISHED-TTL:P3D
REFRESH-INTERVAL:P3D
CALSCALE:GREGORIAN
BEGIN:VEVENT
DTSTART;VALUE=DATE:20150806
DTEND;VALUE=DATE:20150808
TRANSP:TRANSPARENT
X-MICROSOFT-CDO-ALLDAYEVENT:TRUE
SUMMARY:Aerospace\, Defence & Security Expo
DESCRIPTION:Western Canada's largest event for the aerospace\, defense and security industries features:   \n\n        a two-day forum focused on B2B engagement\n\n        workshops and educational sessions on important industry issues\n\n        exclusive "hands on" static aircraft reception and tour\n\n        a VIP pass to an outstanding Chalet Dinner and Twilight Air Show
X-ALT-DESC;FMTTYPE=text/html:<span style="color: rgb(0\, 86\, 214)\; font-family: Times\; font-size: 12px\; line-height: normal\;">Western Canada&rsquo\;s largest event for the aerospace\, defense and security industries features</span><span style="color: rgb(0\, 86\, 214)\; font-family: Times\; font-size: 12px\; line-height: normal\;">:&nbsp\; &nbsp\;</span><br style="color: rgb(0\, 86\, 214)\; font-family: Times\; font-size: 12px\; line-height: normal\;" />\n<span style="color: rgb(0\, 86\, 214)\; font-family: Times\; font-size: 12px\; line-height: normal\;">&middot\; &nbsp\; &nbsp\; &nbsp\; a two-day forum focused on B2B engagement</span><br style="color: rgb(0\, 86\, 214)\; font-family: Times\; font-size: 12px\; line-height: normal\;" />\n<span style="color: rgb(0\, 86\, 214)\; font-family: Times\; font-size: 12px\; line-height: normal\;">&middot\; &nbsp\; &nbsp\; &nbsp\;&nbsp\;workshops and educational sessions on important industry issues</span><br style="color: rgb(0\, 86\, 214)\; font-family: Times\; font-size: 12px\; line-height: normal\;" />\n<span style="color: rgb(0\, 86\, 214)\; font-family: Times\; font-size: 12px\; line-height: normal\;">&middot\; &nbsp\; &nbsp\; &nbsp\;&nbsp\;exclusive &ldquo\;hands on&rdquo\; static aircraft reception and tour</span><br style="color: rgb(0\, 86\, 214)\; font-family: Times\; font-size: 12px\; line-height: normal\;" />\n<span style="color: rgb(0\, 86\, 214)\; font-family: Times\; font-size: 12px\; line-height: normal\;">&middot\; &nbsp\; &nbsp\; &nbsp\;&nbsp\;a VIP pass to an outstanding Chalet Dinner and Twilight Air Show</span>\n\n<div>&nbsp\;</div>\n
LOCATION:Tradex at Abbotsford International Airport
UID:e.749.3617
SEQUENCE:3
DTSTAMP:20260423T181652Z
URL:https://business.swrbot.com/events/details/aerospace-defence-security-expo-08-06-2015-3617
END:VEVENT

END:VCALENDAR
