BEGIN:VCALENDAR
VERSION:2.0
PRODID:-//ChamberMaster//Event Calendar 2.0//EN
METHOD:PUBLISH
X-PUBLISHED-TTL:P3D
REFRESH-INTERVAL:P3D
CALSCALE:GREGORIAN
BEGIN:VEVENT
DTSTART:20150929T033000Z
DTEND:20150929T233000Z
X-MICROSOFT-CDO-ALLDAYEVENT:FALSE
SUMMARY:Agri-Food Business Planning Workshop!
DESCRIPTION:Partners for Growth Advisory Services is proud to be selected to present another Agri-Food Business Planning Workshop! This one will be held in Abbotsford\, BC on September 28th and 29th\, 2015. This is a program funded by the Ministry of Agriculture\, and is perfect for those that are thinking of starting up and/or have an existing Agri-Food/Beverage Processing or Farming Business. The cost is $105. ($100 plus GST) for the two-day workshop. The workshop is for both professional development and building up your network. It is a great opportunity to either build-out or refresh your business plan!
X-ALT-DESC;FMTTYPE=text/html:Partners for Growth Advisory Services is proud to be selected to present another Agri-Food Business Planning Workshop! This one will be held in Abbotsford\, BC on September 28th and 29th\, 2015. This is a program funded by the Ministry of Agriculture\, and is perfect for those that are thinking of starting up and/or have an existing Agri-Food/Beverage Processing or Farming Business. The cost is $105. ($100 plus GST) for the two-day workshop. The workshop is for both professional development and building up your network. It is a great opportunity to either build-out or refresh your business plan!
LOCATION:Abbotsford Agriculture Centre 1767 Angus Campbell Road\, Abbotsford BC
UID:e.749.3624
SEQUENCE:3
DTSTAMP:20260423T200509Z
URL:https://business.swrbot.com/events/details/agri-food-business-planning-workshop-09-28-2015-3624
END:VEVENT

END:VCALENDAR
