BEGIN:VCALENDAR
VERSION:2.0
PRODID:-//ChamberMaster//Event Calendar 2.0//EN
METHOD:PUBLISH
X-PUBLISHED-TTL:P3D
REFRESH-INTERVAL:P3D
CALSCALE:GREGORIAN
BEGIN:VEVENT
DTSTART:20170406T003000Z
DTEND:20170406T023000Z
X-MICROSOFT-CDO-ALLDAYEVENT:FALSE
SUMMARY:All Candidates Meeting at KPU
DESCRIPTION:The Kwantlen Student Association (KSA) will be holding an all candidates meeting on April 5\, 2017 to offer students and community members an opportunity to hear from local candidates in advance of the upcoming provincial election. Candidates from the three major parties in all nine of the Surrey ridings have been invited to attend\, and a moderator will be present to ask questions about issues in the upcoming election. The meeting is part of a KSA campaign called Count on Our Vote that is aimed at empowering young people to vote in the Provincial election on May 9th. The event is free to attend\, and open to everyone.
X-ALT-DESC;FMTTYPE=text/html:The Kwantlen Student Association (KSA) will be holding an all candidates meeting on April 5\, 2017 to offer students and community members an opportunity to hear from local candidates in advance of the upcoming provincial election. Candidates from the three major parties in all nine of the Surrey ridings have been invited to attend\, and a moderator will be present to ask questions about issues in the upcoming election. The meeting is part of a KSA campaign called Count on Our Vote that is aimed at empowering young people to vote in the Provincial election on May 9th. The event is free to attend\, and open to everyone.
LOCATION:The event will take place at the Surrey campus of Kwantlen Polytechnic University\, Kwantlen Polytechnic University 12666 72 Avenue\, Surrey BC\, in the dialogue space on the first floor of the Coast Capital Savings Library.
UID:e.749.5296
SEQUENCE:3
DTSTAMP:20260422T024044Z
URL:https://business.swrbot.com/events/details/all-candidates-meeting-at-kpu-04-05-2017-5296
END:VEVENT

END:VCALENDAR
