BEGIN:VCALENDAR
VERSION:2.0
PRODID:-//ChamberMaster//Event Calendar 2.0//EN
METHOD:PUBLISH
X-PUBLISHED-TTL:P3D
REFRESH-INTERVAL:P3D
CALSCALE:GREGORIAN
BEGIN:VEVENT
DTSTART:20161109T000000Z
DTEND:20161109T050000Z
X-MICROSOFT-CDO-ALLDAYEVENT:FALSE
SUMMARY:AmCham Pacific's Where Will You Be When the Next U.S. President Is Elected?
DESCRIPTION:Watch America vote among friends along with government officials and prominent members of the business community at Vancouver's premier U.S. election results party. Due to exceptionally high interest\, tickets are expected to sell out early. - Live on-site news coverage from local television news broadcast stations - News coverage viewing stations from all major U.S. networks - Commentary from AmCham's Race for the White House panelists - Unofficial Ballot Box for your U.S. presidential vote - President elect voters prize draw -American fare food stations - Dixieland Jazz band
X-ALT-DESC;FMTTYPE=text/html:Watch America vote among friends along with government officials and prominent members of the business community at Vancouver&rsquo\;s premier U.S. election results party. Due to exceptionally high interest\, tickets are expected to sell out early. - Live on-site news coverage from local television news broadcast stations - News coverage viewing stations from all major U.S. networks - Commentary from AmCham&rsquo\;s Race for the White House panelists - Unofficial Ballot Box for your U.S. presidential vote - President elect voters prize draw -American fare food stations - Dixieland Jazz band
LOCATION:Fairmont Vancouver Hotel\, 900 West Georgia Street\, Vancouver\, BC
UID:e.749.4951
SEQUENCE:3
DTSTAMP:20260422T082036Z
URL:https://business.swrbot.com/events/details/amcham-pacific-s-where-will-you-be-when-the-next-u-s-president-is-elected-11-08-2016-4951
END:VEVENT

END:VCALENDAR
