BEGIN:VCALENDAR
VERSION:2.0
PRODID:-//ChamberMaster//Event Calendar 2.0//EN
METHOD:PUBLISH
X-PUBLISHED-TTL:P3D
REFRESH-INTERVAL:P3D
CALSCALE:GREGORIAN
BEGIN:VEVENT
DTSTART:20150502T020000Z
DTEND:20150502T060000Z
X-MICROSOFT-CDO-ALLDAYEVENT:FALSE
SUMMARY:An Intimate Evening with Alfie Zappacosta
DESCRIPTION:An evening of fine music\, conversation and celebration in support of the Surrey Hospice Society and the Surrey Fire Fighters Charitable Society. At the Bell Performing Arts Centre.
X-ALT-DESC;FMTTYPE=text/html:An evening of fine music\, conversation and celebration in support of the Surrey Hospice Society and the Surrey Fire Fighters Charitable Society. At the Bell Performing Arts Centre.
LOCATION:Bell Performing Art Centre 6250 144th St. Surrey\, B.C.
UID:e.749.3324
SEQUENCE:3
DTSTAMP:20260423T133527Z
URL:https://business.swrbot.com/events/details/an-intimate-evening-with-alfie-zappacosta-05-01-2015-3324
END:VEVENT

END:VCALENDAR
