BEGIN:VCALENDAR
VERSION:2.0
PRODID:-//ChamberMaster//Event Calendar 2.0//EN
METHOD:PUBLISH
X-PUBLISHED-TTL:P3D
REFRESH-INTERVAL:P3D
CALSCALE:GREGORIAN
BEGIN:VEVENT
DTSTART:20140401T183000Z
DTEND:20140401T203000Z
X-MICROSOFT-CDO-ALLDAYEVENT:FALSE
SUMMARY:April 1\, 2014 - SFU President's Lunch with Andrew Petter
DESCRIPTION:SFU President's Lunch with Andrew Petter\n\n\n\nSurrey's Economy\n\nSFU's Role in its Transformation\n\n\n\nIn a single\, remarkable decade\, the City of Surrey has cast off its reputation as a far-flung suburb and established itself as an emerging centre of economic and social innovation. Simon Fraser University President Andrew Petter will discuss SFU's role in that transformation   suggesting what is now needed to realize Surrey's full potential\, and sharing SFU's plans for creating economic growth\, fostering social development\, and supporting job creation in the region.\n\n\n\nA question and answer period will be included in the program.
X-ALT-DESC;FMTTYPE=text/html:<strong>SFU President&#39\;s Lunch with Andrew Petter<br />\n<br />\nSurrey&rsquo\;s Economy<br />\nSFU&rsquo\;s Role in its Transformation</strong><br />\n<br />\nIn a single\, remarkable decade\, the City of Surrey has cast off its reputation as a far-flung suburb and established itself as an emerging centre of economic and social innovation. Simon Fraser University President Andrew Petter will discuss SFU&rsquo\;s role in that transformation &ndash\; suggesting what is now needed to realize Surrey&rsquo\;s full potential\, and sharing SFU&rsquo\;s plans for creating economic growth\, fostering social development\, and supporting job creation in the region.<br />\n<br />\nA question and answer period will be included in the program.
LOCATION:Eaglequest Golf Course 7778 152 St Surrey\, BC
UID:e.749.2587
SEQUENCE:3
DTSTAMP:20260425T224337Z
URL:https://business.swrbot.com/events/details/april-1-2014-sfu-president-s-lunch-with-andrew-petter-04-01-2014-2587
END:VEVENT

END:VCALENDAR
