BEGIN:VCALENDAR
VERSION:2.0
PRODID:-//ChamberMaster//Event Calendar 2.0//EN
METHOD:PUBLISH
X-PUBLISHED-TTL:P3D
REFRESH-INTERVAL:P3D
CALSCALE:GREGORIAN
BEGIN:VEVENT
DTSTART:20190410T171500Z
DTEND:20190410T183000Z
X-MICROSOFT-CDO-ALLDAYEVENT:FALSE
SUMMARY:April 10\, 2019 - International Business Roundtable With Vibrant Goa\, India Industry Leaders - April 10
DESCRIPTION:Can you join me for a special International Business Roundtable with Vibrant GOA\, India Industry Leaders?  \n\n \n\nThe Vibrant Goa Roadshow will be led by:\n\n1. Mr. Rajkumar Kamat\, President of the Vibrant Goa Foundation\n\n2. Mr. Jagat Shah\, Chief Mentor of Vibrant Goa 2019\n\n3. Mr. Pranav Agarwal\, Eminent Industrialist of Goa representing the food industry sector\n\n\n\nIndustry Sectors that should attend this meeting for global connections are: \n\n	Agro-Based and Food Processing\n	Building Material\, Construction\n	Real Estate\n	Emerging Technologies\n	Education\n	Entertainment\n	IT\n	Light Engineering\n	Pharmaceuticals and Bio-Tech\n	Ship Building\n	Tourism\n	Wellness (Medical Tourism) \n\nThe prime focus of Vibrant GOA Global Expo and Summit 2019 is inclusive development in key areas such as innovation\, sustainability\, industries\, technology\, youth and skills development\, knowledge sharing and networking.
X-ALT-DESC;FMTTYPE=text/html:<span style="font-size:12px\;"><span style="font-family:arial\;">Can you join me for a special International Business Roundtable with Vibrant GOA\, India Industry Leaders?&nbsp\;&nbsp\;<br />\n&nbsp\;<br />\nThe Vibrant Goa Roadshow will be led by:<br />\n1. Mr. Rajkumar Kamat\, President of the Vibrant Goa Foundation<br />\n2. Mr. Jagat Shah\, Chief Mentor of Vibrant Goa 2019<br />\n3. Mr. Pranav Agarwal\, Eminent Industrialist of Goa representing the food industry sector<br />\n<br />\nIndustry Sectors that should attend this meeting for global connections are: </span></span>\n<ul>\n	<li><span style="font-size:12px"><span style="font-family:arial">Agro-Based and Food Processing</span></span></li>\n	<li><span style="font-size:12px"><span style="font-family:arial">Building Material\, Construction</span></span></li>\n	<li><span style="font-size:12px"><span style="font-family:arial">Real Estate</span></span></li>\n	<li><span style="font-size:12px"><span style="font-family:arial">Emerging Technologies</span></span></li>\n	<li><span style="font-size:12px"><span style="font-family:arial">Education</span></span></li>\n	<li><span style="font-size:12px"><span style="font-family:arial">Entertainment</span></span></li>\n	<li><span style="font-size:12px"><span style="font-family:arial">IT</span></span></li>\n	<li><span style="font-size:12px"><span style="font-family:arial">Light Engineering</span></span></li>\n	<li><span style="font-size:12px"><span style="font-family:arial">Pharmaceuticals and Bio-Tech</span></span></li>\n	<li><span style="font-size:12px"><span style="font-family:arial">Ship Building</span></span></li>\n	<li><span style="font-size:12px"><span style="font-family:arial">Tourism</span></span></li>\n	<li><span style="font-size:12px"><span style="font-family:arial">Wellness (Medical Tourism)&nbsp\;</span></span></li>\n</ul>\nThe prime focus of Vibrant GOA Global Expo and Summit 2019 is inclusive development in key areas such as innovation\, sustainability\, industries\, technology\, youth and skills development\, knowledge sharing and networking.
LOCATION:Surrey Board of Trade Conference Room (Unit 101 - 14439 104 Ave\, Surrey)
UID:e.749.10269
SEQUENCE:3
DTSTAMP:20260420T214737Z
URL:https://business.swrbot.com/events/details/april-10-2019-international-business-roundtable-with-vibrant-goa-india-industry-leaders-april-10-04-10-2019-10269
END:VEVENT

END:VCALENDAR
