BEGIN:VCALENDAR
VERSION:2.0
PRODID:-//ChamberMaster//Event Calendar 2.0//EN
METHOD:PUBLISH
X-PUBLISHED-TTL:P3D
REFRESH-INTERVAL:P3D
CALSCALE:GREGORIAN
BEGIN:VEVENT
DTSTART:20190411T010000Z
DTEND:20190411T030000Z
X-MICROSOFT-CDO-ALLDAYEVENT:FALSE
SUMMARY:April 10\, 2019 - Newton Talks: Envision Financial Newton
DESCRIPTION:Speaker: Rick Green\, South Fraser Community Rail\n\nTopic: South Fraser Community Rail\n\nLocation: Envision Financial Newton\n\nAddress: 7322 King George Blvd #112\, Surrey\, BC V3W 5A5\n\nTime: 6 p.m. - 8 p.m.\n\n\n\nSpace is limited. Register early!
X-ALT-DESC;FMTTYPE=text/html:<p><strong>Speaker: </strong>Rick Green\, South Fraser Community Rail<br />\n<strong>Topic:</strong> South Fraser Community Rail<br />\n<strong>Location: </strong>Envision Financial Newton<br />\n<strong>Address: </strong>7322 King George Blvd #112\, Surrey\, BC V3W 5A5<br />\n<strong>Time: </strong>6 p.m. - 8 p.m.<br />\n<br />\n<strong>Space is limited. Register early! </strong></p>\n
LOCATION:Envision Financial Newton 7322 King George Blvd #112 Surrey\, BC V3W 5A5
UID:e.749.10203
SEQUENCE:3
DTSTAMP:20260420T203111Z
URL:https://business.swrbot.com/events/details/april-10-2019-newton-talks-envision-financial-newton-04-10-2019-10203
END:VEVENT

END:VCALENDAR
