BEGIN:VCALENDAR
VERSION:2.0
PRODID:-//ChamberMaster//Event Calendar 2.0//EN
METHOD:PUBLISH
X-PUBLISHED-TTL:P3D
REFRESH-INTERVAL:P3D
CALSCALE:GREGORIAN
BEGIN:VEVENT
DTSTART:20170412T003000Z
DTEND:20170412T023000Z
X-MICROSOFT-CDO-ALLDAYEVENT:FALSE
SUMMARY:April 11\, 2017 - Business to Business Networking Reception at Destinationone
DESCRIPTION:Join us for an evening of networking with Surrey's business community at\n\nDestinationone Consulting!\n\n\n\nCome and learn about the types of recruitment services Destinationone has to offer:\n\n	Contract recruitment to fill the needs of a particular task for a limited amount of time such as leaves of absence and project work\n	Permanent recruitment to find a team member to achieve your business' goals and integrate in your company's culture.\n	Temporary recruitment to find you a highly specialized and trained individual to fill your short term needs\n	DestinationoneTech specializes in finding ideal IT candidates for your team on contract\, permanent and temporary basis\n\nEnjoy delicious appetizers and refreshments\, the chance to win great prizes and networking with Surrey's growing and diverse business community!
X-ALT-DESC;FMTTYPE=text/html:Join us for an evening of networking with Surrey&rsquo\;s business community at<br />\nDestinationone Consulting!<br />\n<br />\nCome and learn about the types of recruitment services Destinationone has to offer:\n<ul>\n	<li>Contract recruitment to fill the needs of a particular task for a limited amount of time such as leaves of absence and project work</li>\n	<li>Permanent recruitment to find a team member to achieve your business&rsquo\; goals and integrate in your company&rsquo\;s culture.</li>\n	<li>Temporary recruitment to find you a highly specialized and trained individual to fill your short term needs</li>\n	<li>DestinationoneTech specializes in finding ideal IT candidates for your team on contract\, permanent and temporary basis</li>\n</ul>\nEnjoy delicious appetizers and refreshments\, the chance to win great prizes and networking with Surrey&rsquo\;s growing and diverse business community!
LOCATION:Destinationone Consulting 200-7404 King George Boulevard\, Surrey
UID:e.749.5231
SEQUENCE:3
DTSTAMP:20260422T024332Z
URL:https://business.swrbot.com/events/details/april-11-2017-business-to-business-networking-reception-at-destinationone-04-11-2017-5231
END:VEVENT

END:VCALENDAR
