BEGIN:VCALENDAR
VERSION:2.0
PRODID:-//ChamberMaster//Event Calendar 2.0//EN
METHOD:PUBLISH
X-PUBLISHED-TTL:P3D
REFRESH-INTERVAL:P3D
CALSCALE:GREGORIAN
BEGIN:VEVENT
DTSTART:20140415T150000Z
DTEND:20140415T170000Z
X-MICROSOFT-CDO-ALLDAYEVENT:FALSE
SUMMARY:April 15\, 2014 - Crime Breakfast - Cloverdale
DESCRIPTION:Join the Surrey Board of Trade and the Cloverdale Chamber of Commerce at the Cloverdale Crime Breakfast on Tuesday\, April 15th.  \n\n\n\nThe event will feature speakers from:\n\n\n\nCity of Surrey\n\n\n\nSurrey RCMP\n\nCrimeStoppers\n\nFraser Health Authority \n\n \n\nThis important event is free to attend.  You're encouraged to come prepared with questions or issues that your business would like to address.\n\n \n\nPresenting Sponsor:  Sonitrol Verified Electronic Security\n\n \n\nA question and answer period is included in the program\nPlease come prepared with questions or issues that your business would like to address.
X-ALT-DESC;FMTTYPE=text/html:<font face="Arial">Join the Surrey Board of Trade and the Cloverdale Chamber of Commerce at the&nbsp\;Cloverdale&nbsp\;Crime Breakfast on <span class="aBn" data-term="goog_1759849695" tabindex="0"><span class="aQJ">Tuesday\, April 15th</span></span>.&nbsp\; </font><br />\n<br />\n<span style="font-family:arial\;">The event will feature speakers from:</span><br />\n<br />\n<span style="font-family:arial\;">City of Surrey</span><br />\n<br />\n<span style="font-family:arial\;">Surrey RCMP</span><br />\n<span style="font-family:arial\;">CrimeStoppers</span><br />\n<span style="font-family:arial\;">Fraser Health Authority&nbsp\;</span><br />\n&nbsp\;<br />\n<span style="font-family:arial\;">This important event is free to attend.&nbsp\; You&rsquo\;re encouraged to come prepared with questions or issues that your business would like to address.</span><br />\n&nbsp\;<br />\n<strong><span style="font-family:arial\;">Presenting Sponsor:</span></strong><span style="font-family:arial\;">&nbsp\; Sonitrol Verified Electronic Security</span>\n\n<div>&nbsp\;</div>\n\n<div>A question and answer period is included in the program</div>\n<strong>Please come prepared with questions or issues that your business would like to address.</strong><br />\n&nbsp\;
LOCATION:Sunrise Banquet Centre 5640 188 Street. Surrey\, BC
UID:e.749.2620
SEQUENCE:3
DTSTAMP:20260425T225615Z
URL:https://business.swrbot.com/events/details/april-15-2014-crime-breakfast-cloverdale-04-15-2014-2620
END:VEVENT

END:VCALENDAR
