BEGIN:VCALENDAR
VERSION:2.0
PRODID:-//ChamberMaster//Event Calendar 2.0//EN
METHOD:PUBLISH
X-PUBLISHED-TTL:P3D
REFRESH-INTERVAL:P3D
CALSCALE:GREGORIAN
BEGIN:VEVENT
DTSTART:20140416T000000Z
DTEND:20140416T023000Z
X-MICROSOFT-CDO-ALLDAYEVENT:FALSE
SUMMARY:April 15\, 2014 - Extracting the Wealth From Your Business - Manufacturing
DESCRIPTION:Manufacturing Industry Series\n\n\n\nEXTRACTING THE WEALTH FROM YOUR BUSINESS\n\nHow Much Is Your Business Worth?\n\n\n\nJoin us for an informal evening of networking\, while learning how to value and extract the wealth you have built up in your business.\n\n	Learn how to successfully plan your succession and exit to ensure wealth maximization for you and your family\n	Mingle with local professionals who have experience and skills to help you successfully plan and implement your succession plan during our networking cocktail reception.\n\n\n\nWhy NAI Business Advisory Group\n\n	Real industry experience\n	Extensive database of qualified buyers\n	Leading Mergers & Acquisitions firm in the under $25 million valuations\n	Licensed to handle both business and property transactions\n	Strong financial and marketing expertise\n	Over 80 years of combined experience\n	Results oriented with no upfront fees or costs\n\nThis event is for those in the manufacturing industry. If you would like to register\, please call 604-581-7130 or email heather@businessinsurrey.com.
X-ALT-DESC;FMTTYPE=text/html:Manufacturing Industry Series<br />\n<br />\nEXTRACTING THE WEALTH FROM YOUR BUSINESS<br />\nHow Much Is Your Business Worth?<br />\n<br />\nJoin us for an informal evening of networking\, while learning how to value and extract the wealth you have built up in your business.\n<ul>\n	<li>Learn how to successfully plan your succession and exit to ensure wealth maximization for you and your family</li>\n	<li>Mingle with local professionals who have experience and skills to help you successfully plan and implement your succession plan during our networking cocktail reception.</li>\n</ul>\n<br />\nWhy NAI Business Advisory Group\n<ul>\n	<li>Real industry experience</li>\n	<li>Extensive database of qualified buyers</li>\n	<li>Leading Mergers &amp\; Acquisitions firm in the under $25 million valuations</li>\n	<li>Licensed to handle both business and property transactions</li>\n	<li>Strong financial and marketing expertise</li>\n	<li>Over 80 years of combined experience</li>\n	<li>Results oriented with no upfront fees or costs</li>\n</ul>\nThis event is for those in the manufacturing industry. If you would like to register\, please call 604-581-7130 or email <a href="mailto:heather@businessinsurrey.com">heather@businessinsurrey.com.</a>
LOCATION:Surrey Board of Trade #101 - 14439 104th Ave Surrey\, BC
UID:e.749.2496
SEQUENCE:3
DTSTAMP:20260425T224337Z
URL:https://business.swrbot.com/events/details/april-15-2014-extracting-the-wealth-from-your-business-manufacturing-04-15-2014-2496
END:VEVENT

END:VCALENDAR
