BEGIN:VCALENDAR
VERSION:2.0
PRODID:-//ChamberMaster//Event Calendar 2.0//EN
METHOD:PUBLISH
X-PUBLISHED-TTL:P3D
REFRESH-INTERVAL:P3D
CALSCALE:GREGORIAN
BEGIN:VEVENT
DTSTART:20140416T144500Z
DTEND:20140416T170000Z
X-MICROSOFT-CDO-ALLDAYEVENT:FALSE
SUMMARY:April 16\, 2014 - Presentations and Public Speaking PT1 Presentations
DESCRIPTION:Presentations and Public Speaking\n\nA workshop Series\n\n\n\nTopic: Presentations\n\nThis workshop is designed to help participants deliver effective and engaging presentations.  Participants who attend this workshop will leave with the following take aways:\n\n	Learn the importance of an audience analysis\, building rapport\, confident body language and how to overcome nerves through preparation\n	Learn how to involve the audience and how to make the best use of PowerPoint and flipcharts.\n	Understand the components of a presentation\, including icebreakers\, main body and strong conclusions\, to make your presentation have a lasting impact
X-ALT-DESC;FMTTYPE=text/html:Presentations and Public Speaking<br />\nA workshop Series<br />\n<br />\nTopic: Presentations<br />\nThis workshop is designed to help participants deliver effective and engaging presentations.&nbsp\; Participants who attend this workshop will leave with the following take aways:\n<ul>\n	<li>Learn the importance of an audience analysis\, building rapport\, confident body language and how to overcome nerves through preparation</li>\n	<li>Learn how to involve the audience and how to make the best use of PowerPoint and flipcharts.</li>\n	<li>Understand the components of a presentation\, including icebreakers\, main body and strong conclusions\, to make your presentation have a lasting impact&nbsp\;&nbsp\;&nbsp\;</li>\n</ul>\n
LOCATION:Surrey Board of Trade Conference Room 101 - 14439 104th Ave Surrey\, BC
UID:e.749.2581
SEQUENCE:3
DTSTAMP:20260425T224057Z
URL:https://business.swrbot.com/events/details/april-16-2014-presentations-and-public-speaking-pt1-presentations-04-16-2014-2581
END:VEVENT

END:VCALENDAR
