BEGIN:VCALENDAR
VERSION:2.0
PRODID:-//ChamberMaster//Event Calendar 2.0//EN
METHOD:PUBLISH
X-PUBLISHED-TTL:P3D
REFRESH-INTERVAL:P3D
CALSCALE:GREGORIAN
BEGIN:VEVENT
DTSTART:20180418T183000Z
DTEND:20180418T203000Z
X-MICROSOFT-CDO-ALLDAYEVENT:FALSE
SUMMARY:April 18\, 2018 - Workshop on Managing Conflict with Dispute Resolution
DESCRIPTION:The unfortunate fact about business is that every now and then disputes occur\; Perhaps you have a disgruntled employee or a business agreement has fallen apart. \n\n \n\nDispute Resolution skills are critical in today's business environment since the fast\, ever-changing pace can create stress\, confusion and chaos. \n\n \n\nThis workshop is designed to give you dispute resolution tools that you can put to use immediately to help calm difficult discussions. Presented by ADR Institute of BC and facilitated by Brenda Hooper\, Cathy Knapp and Diane Tucker\, discover how you can access a Dispute Resolution Professional to help you resolve the conflict\, rebuild the business relationship and get back to doing what you do best - conducting business. \n\n \n** This is a "brown bag" lunch and learn so please bring your lunch and have fun learning in this interactive workshop.
X-ALT-DESC;FMTTYPE=text/html:<p class="m_4347659412035714332gmail-Body" style="margin:0cm 0cm 0.0001pt\;color:black\;border:none"><font face="arial\, helvetica\, sans-serif">The unfortunate fact about business is that every now and then disputes occur\; Perhaps you have a disgruntled employee or a business agreement has fallen apart. </font></p>\n\n<p class="m_4347659412035714332gmail-Body" style="margin:0cm 0cm 0.0001pt\;color:black\;border:none"><span><font face="arial\, helvetica\, sans-serif">&nbsp\;</font></span></p>\n\n<p class="m_4347659412035714332gmail-Body" style="margin:0cm 0cm 0.0001pt\;color:black\;border:none"><span style="font-family:arial\,helvetica\,sans-serif\;color:rgb(34\,34\,34)">Dispute Resolution skills are critical in today&#39\;s business environment since the fast\, ever-changing pace can create stress\, confusion and chaos. </span></p>\n\n<p class="m_4347659412035714332gmail-Body" style="margin:0cm 0cm 0.0001pt\;color:black\;border:none">&nbsp\;</p>\n\n<p class="m_4347659412035714332gmail-m_-1442978965742209867gmail-Body" style="font-style:normal\;font-variant-ligatures:normal\;font-variant-caps:normal\;font-weight:400\;letter-spacing:normal\;text-align:start\;text-indent:0px\;text-transform:none\;white-space:normal\;word-spacing:0px\;text-decoration-style:initial\;text-decoration-color:initial\;margin:0cm 0cm 0.0001pt\;color:black\;border:none"><font face="arial\, helvetica\, sans-serif">This workshop is designed to give you dispute resolution tools that you can put to use immediately to help calm difficult discussions.<span>&nbsp\;Presented by ADR Institute of BC and facilitated by Brenda Hooper\, Cathy Knapp and Diane Tucker\,&nbsp\;</span>discover how you can access a Dispute Resolution Professional to help you resolve the conflict\, rebuild the business relationship and get back to doing what you do best - conducting business.<span> </span></font></p>\n\n<p class="m_4347659412035714332gmail-Body" style="margin:0cm 0cm 0.0001pt\;color:black\;border:none">&nbsp\;</p>\n<font face="arial\, helvetica\, sans-serif">** This is a &ldquo\;brown bag&rdquo\; lunch and learn so please bring your lunch and have fun learning in this interactive workshop. </font>
LOCATION:Surrey Board of Trade (101-14439\, 104th Ave\, Surrey\, BC\, V3R 1M1)
UID:e.749.6788
SEQUENCE:3
DTSTAMP:20260421T114652Z
URL:https://business.swrbot.com/events/details/april-18-2018-workshop-on-managing-conflict-with-dispute-resolution-04-18-2018-6788
END:VEVENT

END:VCALENDAR
