BEGIN:VCALENDAR
VERSION:2.0
PRODID:-//ChamberMaster//Event Calendar 2.0//EN
METHOD:PUBLISH
X-PUBLISHED-TTL:P3D
REFRESH-INTERVAL:P3D
CALSCALE:GREGORIAN
BEGIN:VEVENT
DTSTART:20170421T150000Z
DTEND:20170421T170000Z
X-MICROSOFT-CDO-ALLDAYEVENT:FALSE
SUMMARY:April 21\, 2017 - Federal Budget Roundtable with Surrey MP's
DESCRIPTION:As the Federal Government has just tabled the 2017 Budget\, join Surrey MP's John Aldag\, Sukh Dhaliwal\, Ken Hardie\, and Randeep Sarai to discuss what this means for you\, your business and for Surrey.
X-ALT-DESC;FMTTYPE=text/html:As the Federal Government has just tabled the 2017 Budget\, join Surrey MP&#39\;s John Aldag\, Sukh Dhaliwal\, Ken Hardie\, and Randeep Sarai to discuss what this means for you\, your business and for Surrey.
LOCATION:Surrey Board of Trade #101\, 14439 104 Avenue Surrey\, BC
UID:e.749.5304
SEQUENCE:3
DTSTAMP:20260422T024213Z
URL:https://business.swrbot.com/events/details/april-21-2017-federal-budget-roundtable-with-surrey-mp-s-04-21-2017-5304
END:VEVENT

END:VCALENDAR
