BEGIN:VCALENDAR
VERSION:2.0
PRODID:-//ChamberMaster//Event Calendar 2.0//EN
METHOD:PUBLISH
X-PUBLISHED-TTL:P3D
REFRESH-INTERVAL:P3D
CALSCALE:GREGORIAN
BEGIN:VEVENT
DTSTART;VALUE=DATE:20090423
DTEND;VALUE=DATE:20090424
TRANSP:TRANSPARENT
X-MICROSOFT-CDO-ALLDAYEVENT:TRUE
SUMMARY:April 23\, '09 - Law Society and Business Luncheon
DESCRIPTION:
X-ALT-DESC;FMTTYPE=text/html:
LOCATION:
UID:e.749.1513
SEQUENCE:3
DTSTAMP:20260423T183044Z
URL:https://business.swrbot.com/events/details/april-23-09-law-society-and-business-luncheon-04-23-2009-1513
END:VEVENT

END:VCALENDAR
