BEGIN:VCALENDAR
VERSION:2.0
PRODID:-//ChamberMaster//Event Calendar 2.0//EN
METHOD:PUBLISH
X-PUBLISHED-TTL:P3D
REFRESH-INTERVAL:P3D
CALSCALE:GREGORIAN
BEGIN:VEVENT
DTSTART:20140424T213000Z
DTEND:20140424T233000Z
X-MICROSOFT-CDO-ALLDAYEVENT:FALSE
SUMMARY:April 24\, 2014 - Business and Education Dialogue
DESCRIPTION:Join us as we discuss investments in education necessary for the productivity of our businesses. As we head into an era of skills shortages\, it is imperative that industry needs are tied to the school curriculums (both at the elementary/high school and post-secondary levels). Without the proper training of youth\, businesses will be forced to close as current skilled workers retire.\n\n\n\nFeaturing for the first time together:\n\n  Shirley Bond\, Minister of Jobs\, Tourism and Skills Training\, and Minister Responsible for Labour\n\n  Peter Fassbender\, Minister of Education\n\n  Representative for the Ministry of Advanced Education\n\n\n\nA question and answer period will be included in the program.
X-ALT-DESC;FMTTYPE=text/html:Join us as we discuss investments in education necessary for the productivity of our businesses. As we head into an era of skills shortages\, it is imperative that industry needs are tied to the school curriculums (both at the elementary/high school and post-secondary levels). Without the proper training of youth\, businesses will be forced to close as current skilled workers retire.<br />\n<br />\nFeaturing for the first time together:<br />\n&bull\; <strong>Shirley Bond</strong>\, Minister of Jobs\, Tourism and Skills Training\, and Minister Responsible for Labour<br />\n&bull\; <strong>Peter Fassbender</strong>\, Minister of Education<br />\n&bull\; Representative for the Ministry of Advanced Education<br />\n<br />\nA question and answer period will be included in the program.
LOCATION:Sheraton Vancouver Guildford Hotel (Fraser Room) 15269 104 Avenue\, Surrey
UID:e.749.2612
SEQUENCE:3
DTSTAMP:20260425T224712Z
URL:https://business.swrbot.com/events/details/april-24-2014-business-and-education-dialogue-04-24-2014-2612
END:VEVENT

END:VCALENDAR
