BEGIN:VCALENDAR
VERSION:2.0
PRODID:-//ChamberMaster//Event Calendar 2.0//EN
METHOD:PUBLISH
X-PUBLISHED-TTL:P3D
REFRESH-INTERVAL:P3D
CALSCALE:GREGORIAN
BEGIN:VEVENT
DTSTART:20180424T144500Z
DTEND:20180424T170000Z
X-MICROSOFT-CDO-ALLDAYEVENT:FALSE
SUMMARY:April 24\, 2018 - SBOT Workshop: Thinking Outside the Box
DESCRIPTION:In this day and age\, sometimes you are faced by seemingly insurmountable issues\, and you are challenged to resolve them creatively. You often hear this phrase "Think Outside the Box"\, but how can you just do that?\nThis workshop is designed to open your eyes and mind to more of your potential. Participants will:\n\n\n	Learn what makes us tick and what stands in our way\n	Get real tools to help you think larger and longer\n	Be able to think more strategically rather than just operationally\n	Start looking at the world as an opportunity\, not as a roadblock \n\n\nPlus\, one lucky participant will take home a mini coaching package valued at $500.00.\n\n\n\nFacilitated by Dr. Steve Whiteside\, President and Owner of Inspiration By Design\, this workshop will open your eyes and mind to more of your potential. You will learn what makes us tick and what stands in our way. You will get real tools to help you think larger and longer and be able to think more strategically rather than just operationally.\n\n\n\nCome with a open mind and maybe a few goals you would like to accomplish in the next 90 days to a year. Remember "Thoughts Become Reality" - Lou Tice
X-ALT-DESC;FMTTYPE=text/html:<div><span style="font-size:14px\;">In this day and age\, sometimes you are faced by seemingly insurmountable issues\, and you are challenged to resolve them creatively. You often hear this phrase &quot\;Think Outside the Box&quot\;\, but how can you just do that?</span>\n<p><span style="font-size:14px\;"><span class="im" style="background-color: rgb(255\, 255\, 255)\;">This workshop is designed to open your eyes and mind to more of your potential. Participants will:</span></span></p>\n\n<ul>\n	<li style="margin-left: 15px\; background-image: initial\; background-position: initial\; background-size: initial\; background-repeat: initial\; background-attachment: initial\; background-origin: initial\; background-clip: initial\; font-size: 12pt\; font-family: Calibri\, sans-serif\;"><span style="font-size:14px\;"><span class="im" style="background-color: rgb(255\, 255\, 255)\;">Learn what makes us tick and what stands in our way</span></span></li>\n	<li style="margin-left: 15px\; background-image: initial\; background-position: initial\; background-size: initial\; background-repeat: initial\; background-attachment: initial\; background-origin: initial\; background-clip: initial\; font-size: 12pt\; font-family: Calibri\, sans-serif\;"><span style="font-size:14px\;"><span class="im" style="background-color: rgb(255\, 255\, 255)\;">Get real tools to help you think larger and longer</span></span></li>\n	<li style="margin-left: 15px\; background-image: initial\; background-position: initial\; background-size: initial\; background-repeat: initial\; background-attachment: initial\; background-origin: initial\; background-clip: initial\; font-size: 12pt\; font-family: Calibri\, sans-serif\;"><span style="font-size:14px\;"><span class="im" style="background-color: rgb(255\, 255\, 255)\;">Be able to think more strategically rather than just operationally</span></span></li>\n	<li style="margin-left: 15px\; background-image: initial\; background-position: initial\; background-size: initial\; background-repeat: initial\; background-attachment: initial\; background-origin: initial\; background-clip: initial\; font-size: 12pt\; font-family: Calibri\, sans-serif\;"><span style="font-size:14px\;"><span class="im" style="background-color: rgb(255\, 255\, 255)\;">Start looking at the world as an opportunity\, not as a roadblock&nbsp\;</span></span></li>\n</ul>\n\n<p style="color: rgb(34\, 34\, 34)\; font-family: Arial\; font-size: 13.3333px\; background-color: rgb(255\, 255\, 255)\;"><span style="font-size:14px\;"><span class="im"><strong>Plus\, one lucky participant will take home a mini coaching package valued at $500.00.</strong></span></span><br />\n<br />\n<span style="font-size: 14px\; color: rgb(51\, 51\, 51)\; font-family: sans-serif\, Arial\, Verdana\, &quot\;Trebuchet MS&quot\;\;">Facilitated by </span><span style="font-size: 14px\; color: rgb(51\, 51\, 51)\; font-family: sans-serif\, Arial\, Verdana\, &quot\;Trebuchet MS&quot\;\; border: medium none\; background-image: none\; background-position: 0% 0%\; background-size: initial\; background-repeat: repeat\; background-attachment: scroll\; background-origin: initial\; background-clip: initial\;"><span style="text-decoration-line: underline\;"><a data-saferedirecturl="https://www.google.com/url?hl=en&amp\;q=http://www.inspirationbydesign.org/&amp\;source=gmail&amp\;ust=1522360280169000&amp\;usg=AFQjCNH3FtZtQnIMH2DEloe01ORAHdGt8Q" href="http://www.inspirationbydesign.org/" target="_blank">Dr. Steve Whiteside\, President and Owner of Inspiration By Design</a></span></span><span style="font-size: 14px\; color: rgb(51\, 51\, 51)\; font-family: sans-serif\, Arial\, Verdana\, &quot\;Trebuchet MS&quot\;\;">\, </span><span style="font-size: 14px\; color: rgb(51\, 51\, 51)\; font-family: sans-serif\, Arial\, Verdana\, &quot\;Trebuchet MS&quot\;\; border: medium none\; background-image: none\; background-position: 0% 0%\; background-size: initial\; background-repeat: repeat\; background-attachment: scroll\; background-origin: initial\; background-clip: initial\;"><span style="text-decoration-line: underline\;">t</span></span><span style="font-size: 14px\; color: rgb(51\, 51\, 51)\; font-family: sans-serif\, Arial\, Verdana\, &quot\;Trebuchet MS&quot\;\;">his workshop will open your eyes and mind to more of your potential. You will learn what makes us tick and what stands in our way. You will get real tools to help you think larger and longer and be able to think more strategically rather than just operationally.</span></p>\n</div>\n<br />\n<span style="font-size:14px\;">Come with a open mind and maybe a few goals you would like to accomplish in the next 90 days to a year. Remember &ldquo\;Thoughts Become Reality&rdquo\; - Lou Tice </span><br />\n&nbsp\;
LOCATION:Surrey Board of Trade (101-14439\, 104th Ave\, Surrey\, V3R 1M1)
UID:e.749.7803
SEQUENCE:3
DTSTAMP:20260421T114531Z
URL:https://business.swrbot.com/events/details/april-24-2018-sbot-workshop-thinking-outside-the-box-04-24-2018-7803
END:VEVENT

END:VCALENDAR
