BEGIN:VCALENDAR
VERSION:2.0
PRODID:-//ChamberMaster//Event Calendar 2.0//EN
METHOD:PUBLISH
X-PUBLISHED-TTL:P3D
REFRESH-INTERVAL:P3D
CALSCALE:GREGORIAN
BEGIN:VEVENT
DTSTART:20200424T180000Z
DTEND:20200424T190000Z
X-MICROSOFT-CDO-ALLDAYEVENT:FALSE
SUMMARY:April 24\, 2020 - Surrey Digital Town Hall: Managing an Unexpected Remote Workforce - Your Top 10 Questions Answered
DESCRIPTION:Among the many impacts that COVID-19 has had on society is the fact that many businesses and service organizations are faced with a new frontier: an entirely remote workforce. The challenge of maintaining connection to your team and work is exacerbated by distance. Productivity\, processes and mental health can be strained.\n\n\n\nWhat is the best way to manage the unexpected remote workforce\, as an employer and as an employee?\n\n\n\nPanelists:\n\n\n	Laura Benson\, Senior Manager\, Consulting and Deals\, PwC Canada\n	Michael Anhorn\, Executive Director\, Canadian Mental Health Association - Vancouver-Fraser Branch\n	Ryan Wozniak\, Senior Vice President\, Operations and Legal\, Peninsula
X-ALT-DESC;FMTTYPE=text/html:Among the many impacts that COVID-19 has had on society is the fact that many businesses and service organizations are faced with a new frontier: an entirely remote workforce. The challenge of maintaining connection to your team and work is exacerbated by distance. Productivity\, processes and mental health can be strained.<br />\n<br />\nWhat is the best way to manage the unexpected remote workforce\, as an employer and as an employee?<br />\n<br />\n<strong>Panelists:</strong>\n\n<ul>\n	<li>Laura Benson\, Senior Manager\, Consulting and Deals\, PwC Canada</li>\n	<li>Michael Anhorn\, Executive Director\, Canadian Mental Health Association - Vancouver-Fraser Branch</li>\n	<li>Ryan Wozniak\, Senior Vice President\, Operations and Legal\, Peninsula</li>\n</ul>\n
LOCATION:Online webinar - Register using this link: https://zoom.us/webinar/register/WN_fxdCVq_CTG-XBP0UQPqSlg
UID:e.749.11055
SEQUENCE:3
DTSTAMP:20260420T052943Z
URL:https://business.swrbot.com/events/details/april-24-2020-surrey-digital-town-hall-managing-an-unexpected-remote-workforce-your-top-10-questions-answered-04-24-2020-11055
END:VEVENT

END:VCALENDAR
