BEGIN:VCALENDAR
VERSION:2.0
PRODID:-//ChamberMaster//Event Calendar 2.0//EN
METHOD:PUBLISH
X-PUBLISHED-TTL:P3D
REFRESH-INTERVAL:P3D
CALSCALE:GREGORIAN
BEGIN:VEVENT
DTSTART:20140425T144500Z
DTEND:20140425T163000Z
X-MICROSOFT-CDO-ALLDAYEVENT:FALSE
SUMMARY:April 25\, 2014 - Business and Canada Post Dialogue
DESCRIPTION:Canada Post announced changes in December that will affect mail services and costs for all of its customers. Businesses will experience price increases and the extent to which you will feel these increases will depend on how much your business relies on mail services for the delivery of invoices\, bills and other business correspondence.\n\n\n\nJoin us as we hear from Canada Post on their 5 Point Action plan that was recently unveiled. This session will allow you to ask questions and find out how the changes will affect your business or organization.\n\n\n\nA question and answer period will be included in the program.
X-ALT-DESC;FMTTYPE=text/html:Canada Post announced changes in December that will affect mail services and costs for all of its customers. Businesses will experience price increases and the extent to which you will feel these increases will depend on how much your business relies on mail services for the delivery of invoices\, bills and other business correspondence.<br />\n<br />\nJoin us as we hear from Canada Post on their 5 Point Action plan that was recently unveiled. This session will allow you to ask questions and find out how the changes will affect your business or organization.<br />\n<br />\nA question and answer period will be included in the program.
LOCATION:Surrey Board of Trade Conference Room 101 - 14439 104th Ave Surrey\, BC
UID:e.749.2613
SEQUENCE:3
DTSTAMP:20260425T224204Z
URL:https://business.swrbot.com/events/details/april-25-2014-business-and-canada-post-dialogue-04-25-2014-2613
END:VEVENT

END:VCALENDAR
