BEGIN:VCALENDAR
VERSION:2.0
PRODID:-//ChamberMaster//Event Calendar 2.0//EN
METHOD:PUBLISH
X-PUBLISHED-TTL:P3D
REFRESH-INTERVAL:P3D
CALSCALE:GREGORIAN
BEGIN:VEVENT
DTSTART:20170426T144500Z
DTEND:20170426T170000Z
X-MICROSOFT-CDO-ALLDAYEVENT:FALSE
SUMMARY:April 26\, 2017 - Employment Contracts - A Simple and Powerful Tool
DESCRIPTION:Employment Contracts  \n\nA Simple and Powerful Tool\n\n\n\nEmployment contracts are the legal basis for every employment relationship.  Employers can significantly reduce their potential liability to employees and avoid workplace conflict by putting in place written employment contracts.  If there is no contract in writing\, a judge will write it for you by inferring contract terms\, and you may not like them!  In this session we will cover best practices for how and when to put employment contracts in place for new and continuing employees.  We will also review key clauses to include in employment contracts\, and how these clauses can protect employers.  This is a must attend session for any business that has employees\, or expects to hire in 2017.\n\n\n\nThis workshop is facilitated by Sara Forte of Forte Law Corporation.
X-ALT-DESC;FMTTYPE=text/html:Employment Contracts &nbsp\;<br />\nA Simple and Powerful Tool<br />\n<br />\nEmployment contracts are the legal basis for every employment relationship.&nbsp\; Employers can significantly reduce their potential liability to employees and avoid workplace conflict by putting in place written employment contracts.&nbsp\; If there is no contract in writing\, a judge will write it for you by inferring contract terms\, and you may not like them!&nbsp\; In this session we will cover best practices for how and when to put employment contracts in place for new and continuing employees.&nbsp\; We will also review key clauses to include in employment contracts\, and how these clauses can protect employers.&nbsp\; This is a must attend session for any business that has employees\, or expects to hire in 2017.<br />\n<br />\n<strong>This workshop is facilitated by Sara Forte of <a href="http://www.fortelaw.ca" target="_blank">Forte Law Corporation</a>.</strong><br />\n&nbsp\;
LOCATION:Surrey Board of Trade Conference Room 101-14439 104 Avenue\, Surrey
UID:e.749.5294
SEQUENCE:3
DTSTAMP:20260422T023942Z
URL:https://business.swrbot.com/events/details/april-26-2017-employment-contracts-a-simple-and-powerful-tool-04-26-2017-5294
END:VEVENT

END:VCALENDAR
