BEGIN:VCALENDAR
VERSION:2.0
PRODID:-//ChamberMaster//Event Calendar 2.0//EN
METHOD:PUBLISH
X-PUBLISHED-TTL:P3D
REFRESH-INTERVAL:P3D
CALSCALE:GREGORIAN
BEGIN:VEVENT
DTSTART:20190426T143000Z
DTEND:20190426T163000Z
X-MICROSOFT-CDO-ALLDAYEVENT:FALSE
SUMMARY:April 26\, 2019 - Surrey Entrepreneur Showcase: The Entrepreneurial Journey
DESCRIPTION:p.p1 {margin: 0.0px 0.0px 0.0px 0.0px\; font: 12.0px 'Univers LT Std'}\np.p2 {margin: 0.0px 0.0px 0.0px 0.0px\; font: 12.0px 'Univers LT Std'\; min-height: 14.0px}\np.p3 {margin: 0.0px 0.0px 0.0px 0.0px\; font: 12.0px 'Univers LT Std'\; color: #5e5e5e\; min-height: 14.0px}\n\nJoin the Surrey Board of Trade for insightful conversations with Surrey entrepreneurs and industry experts at the Surrey Entrepreneur Morning Showcase\, a series of events featuring Surrey business leaders in different industries and business sizes.\n\n \n\nSurrey has a vibrant entrepreneurship community. Let's learn from them.\n\n \n\nPanelists:\n\n1. Larry Fisher - Founder and President\, Lark Group - DEVELOPMENT AND CONSTRUCTION\n\n2. Shelina Mawani - Co-Founder\, Nana's Kitchen and Hot Sauces Ltd. - MANUFACTURING\, FOOD PRODUCTS AND INTERNATIONAL TRADE\n\n\n\n3. Kathie-Lee Olson - Owner and Creative Director\, Focused Interiors - ENTREPRENEUR AND DESIGN\n\n \n\nThis event is moderated by Likky Lavji of the Dante Group.
X-ALT-DESC;FMTTYPE=text/html:<style type="text/css">p.p1 {margin: 0.0px 0.0px 0.0px 0.0px\; font: 12.0px 'Univers LT Std'}\np.p2 {margin: 0.0px 0.0px 0.0px 0.0px\; font: 12.0px 'Univers LT Std'\; min-height: 14.0px}\np.p3 {margin: 0.0px 0.0px 0.0px 0.0px\; font: 12.0px 'Univers LT Std'\; color: #5e5e5e\; min-height: 14.0px}\n</style>\n<p class="p1"><span style="font-size:14px\;"><span style="font-family:arial\;">Join the Surrey Board of Trade for insightful conversations with Surrey entrepreneurs and industry experts at the <b>Surrey Entrepreneur Morning Showcase\, </b>a series of events featuring Surrey business leaders in different industries and business sizes.</span></span><br />\n&nbsp\;</p>\n\n<p class="p2"><span style="font-size:14px\;"><span style="font-family:arial\;">Surrey has a vibrant entrepreneurship community. Let&rsquo\;s learn from them.</span></span><br />\n&nbsp\;</p>\n\n<p class="p2"><span style="font-size:14px\;"><span style="font-family:arial\;"><b>Panelists:</b></span></span></p>\n\n<p class="p1"><span style="font-size:14px\;"><span style="font-family:arial\;">1.&nbsp\;<b>Larry Fisher </b>- Founder and President\, Lark Group -&nbsp\;</span></span><span style="font-size:14px\;"><span style="font-family:arial\;">DEVELOPMENT AND CONSTRUCTION</span></span></p>\n\n<p class="p1"><span style="font-size:14px\;"><span style="font-family:arial\;">2. <b>Shelina Mawani</b> - Co-Founder\, Nana&rsquo\;s Kitchen and Hot Sauces Ltd. -&nbsp\;</span></span><span style="font-size:14px\;"><span style="font-family:arial\;">MANUFACTURING\, FOOD PRODUCTS AND INTERNATIONAL TRADE<br />\n<br />\n3. <strong>Kathie-Lee Olson </strong>- Owner and Creative Director\, Focused Interiors - ENTREPRENEUR AND DESIGN</span></span><br />\n&nbsp\;</p>\n\n<p class="p2"><span style="font-size:14px\;"><span style="font-family:arial\;">This event is moderated by Likky Lavji of the Dante Group.</span></span></p>\n\n<p class="p3">&nbsp\;</p>\n
LOCATION:Eaglequest Golf Course (7778 152 Street\, Surrey)
UID:e.749.10311
SEQUENCE:3
DTSTAMP:20260420T214558Z
URL:https://business.swrbot.com/events/details/april-26-2019-surrey-entrepreneur-showcase-the-entrepreneurial-journey-04-26-2019-10311
END:VEVENT

END:VCALENDAR
