BEGIN:VCALENDAR
VERSION:2.0
PRODID:-//ChamberMaster//Event Calendar 2.0//EN
METHOD:PUBLISH
X-PUBLISHED-TTL:P3D
REFRESH-INTERVAL:P3D
CALSCALE:GREGORIAN
BEGIN:VEVENT
DTSTART:20160427T141500Z
DTEND:20160427T160000Z
X-MICROSOFT-CDO-ALLDAYEVENT:FALSE
SUMMARY:April 27\, 2016 - 2nd Surrey Board of Trade Mayor's Breakfast Series
DESCRIPTION:The Surrey Board of Trade is connecting the business community to Surrey City Hall\n\nJoin Mayor Linda Hepner in this high-profile breakfast series where issues vital to Surrey's prosperity and quality of life are presented. The purpose of the Mayor's Breakfast Series is to continually engage businesses and provide ongoing updates from Surrey City Hall on issues and initiatives. The Mayor's Breakfast Series is anticipated to be a popular event where guest speakers will include high-profile political\, business and community leaders.\n\n\n\nSPEAKERS:\n\nMunicipal update:\n\nMayor Linda Hepner\n\nSpeaker: \n\nMinister of National Defence (Canada)\, the Honourable Harjit Sajjan\n\nAbout the Speaker:\n\nMinister Sajjan is responsible for the management and direction of all matters relating to the national defence of Canada. Harjit is a retired Lieutenant-Colonel in the Canadian Armed Forces and a combat veteran. He was deployed to Bosnia-Herzegovina and served three separate deployments to Kandahar\, Afghanistan. Harjit has received numerous recognitions for his service\, including the Meritorious Service Medal for reducing the Taliban's influence in Kandahar Province. He is also a recipient of the Order of Military Merit\, one of the military's highest recognitions. Harjit also served as an Aide-de-Camp to the Lieutenant Governor of British Columbia.\nHarjit was a police officer with the Vancouver Police Department for 11 years. He completed his last assignment as a Detective-Constable with the Gang Crime Unit specializing in organized crime. He proudly tackled gang violence and drug crimes in Vancouver. Harjit is also a human security specialist\, and has lectured to a wide audience in both Canada and the United States. He participates in humanitarian efforts where he can make a difference. He and his wife have four sponsored children and support many charities that promote health and education to impoverished children.
X-ALT-DESC;FMTTYPE=text/html:<p><font size="2"><span style="color:#006666\;"><b><span style="font-family: Arial\;">The Surrey Board of Trade is connecting the business community to Surrey City Hall</span></b></span><br />\n<span style="font-family:Arial">Join Mayor Linda Hepner in this high-profile breakfast series where issues vital to Surrey&#39\;s prosperity and quality of life are presented. The purpose of the Mayor&rsquo\;s Breakfast Series is to continually engage businesses and provide ongoing updates from Surrey City Hall on issues and initiatives. The Mayor&rsquo\;s Breakfast Series is anticipated to be a popular event where guest speakers will include high-profile political\, business and community leaders.<br />\n<br />\n<span style="color:#006666\;"><b>SPEAKERS:</b></span><br />\n<b><span>Municipal update:</span></b><br />\nMayor Linda Hepner<br />\n<b>Speaker:</b> </span><br />\n<span lang="EN" style="font-family:Arial">Minister of National Defence (Canada)\, the Honourable Harjit Sajjan</span><br />\n<b><span style="font-family:Arial">About the Speaker:</span></b><br />\n<span style="font-family:Arial">Minister Sajjan is responsible for the management and direction of all matters relating to the national defence of Canada<b>. </b>Harjit is a retired Lieutenant-Colonel in the Canadian Armed Forces and a combat veteran. He was deployed to Bosnia-Herzegovina and served three separate deployments to Kandahar\, Afghanistan. Harjit has received numerous recognitions for his service\, including the Meritorious Service Medal for reducing the Taliban&rsquo\;s influence in Kandahar Province. He is also a recipient of the Order of Military Merit\, one of the military&rsquo\;s highest recognitions. Harjit also served as an Aide-de-Camp to the Lieutenant Governor of British Columbia.</span></font></p>\n<font size="2"><span style="font-family:Arial">Harjit was a police officer with the Vancouver Police Department for 11 years. He completed his last assignment as a Detective-Constable with the Gang Crime Unit specializing in organized crime. He proudly tackled gang violence and drug crimes in Vancouver. Harjit is also a human security specialist\, and has lectured to a wide audience in both Canada and the United States.</span></font><font size="2"><span lang="EN-US" style="font-family:Arial\;font-weight:normal\;font-style:normal"> He participates in humanitarian efforts where he can make a difference. He and his wife have four sponsored children and support many charities that promote health and education to impoverished children.</span></font>
LOCATION:Surrey City Hall Council Chambers\, 13450-104 Avenue\, Surrey BC.
UID:e.749.4913
SEQUENCE:3
DTSTAMP:20260424T065621Z
URL:https://business.swrbot.com/events/details/april-27-2016-2nd-surrey-board-of-trade-mayor-s-breakfast-series-04-27-2016-4913
END:VEVENT

END:VCALENDAR
