BEGIN:VCALENDAR
VERSION:2.0
PRODID:-//ChamberMaster//Event Calendar 2.0//EN
METHOD:PUBLISH
X-PUBLISHED-TTL:P3D
REFRESH-INTERVAL:P3D
CALSCALE:GREGORIAN
BEGIN:VEVENT
DTSTART;VALUE=DATE:20090428
DTEND;VALUE=DATE:20090429
TRANSP:TRANSPARENT
X-MICROSOFT-CDO-ALLDAYEVENT:TRUE
SUMMARY:April 28\, '09 - Spring into Summer Industry Networking Reception
DESCRIPTION:
X-ALT-DESC;FMTTYPE=text/html:
LOCATION:
UID:e.749.1518
SEQUENCE:3
DTSTAMP:20260423T182058Z
URL:https://business.swrbot.com/events/details/april-28-09-spring-into-summer-industry-networking-reception-04-28-2009-1518
END:VEVENT

END:VCALENDAR
