BEGIN:VCALENDAR
VERSION:2.0
PRODID:-//ChamberMaster//Event Calendar 2.0//EN
METHOD:PUBLISH
X-PUBLISHED-TTL:P3D
REFRESH-INTERVAL:P3D
CALSCALE:GREGORIAN
BEGIN:VEVENT
DTSTART:20170428T183000Z
DTEND:20170428T203000Z
X-MICROSOFT-CDO-ALLDAYEVENT:FALSE
SUMMARY:April 28\, 2017 - Employer Appreciation Event - Accelerating Business Excellence Through Newcomer Advancement
DESCRIPTION:Join us for a complimentary lunch event\, featuring a keynote presentation on 'accelerating business excellence through newcomer advancement'.
X-ALT-DESC;FMTTYPE=text/html:<span style="font-family:arial\,helvetica\,sans-serif"><font size="2">Join us for a complimentary lunch event\, featuring a keynote presentation on &#39\;accelerating business excellence through newcomer advancement&#39\;. </font></span>
LOCATION:Surrey City Hall 13450 104 Avenue\, Surrey
UID:e.749.5306
SEQUENCE:3
DTSTAMP:20260422T024311Z
URL:https://business.swrbot.com/events/details/april-28-2017-employer-appreciation-event-accelerating-business-excellence-through-newcomer-advancement-04-28-2017-5306
END:VEVENT

END:VCALENDAR
