BEGIN:VCALENDAR
VERSION:2.0
PRODID:-//ChamberMaster//Event Calendar 2.0//EN
METHOD:PUBLISH
X-PUBLISHED-TTL:P3D
REFRESH-INTERVAL:P3D
CALSCALE:GREGORIAN
BEGIN:VEVENT
DTSTART:20140429T144500Z
DTEND:20140429T170000Z
X-MICROSOFT-CDO-ALLDAYEVENT:FALSE
SUMMARY:April 29\, 2014 - Presentations and Public Speaking PT2 Public Speaking
DESCRIPTION:Presentations and Public Speaking\n\nA workshop Series\n\n\n\nTopic: Public Speaking\n\nWhether giving a speech for a presentation at work\, a seminar or personal event\, this workshop will help participants deliver speeches with confidence and clarity.  Participants who attends this workshop will leave with the following take aways:\n\n	Learn how to effectively deliver the key messages.\n	Learn what experts are doing to prepare and how you can apply these strategies to ensure your speech has a lasting impact.\n	Learn about energy\, movement\, confidence and voice projection.\n	Hear tips on how to increase inspiration and impact of the speech.\n	Learn techniques that will help decrease anxiety and keep the focus on the message of the speech.
X-ALT-DESC;FMTTYPE=text/html:Presentations and Public Speaking<br />\nA workshop Series<br />\n<br />\nTopic: Public Speaking<br />\nWhether giving a speech for a presentation at work\, a seminar or personal event\, this workshop will help participants deliver speeches with confidence and clarity.&nbsp\; Participants who attends this workshop will leave with the following take aways:\n<ul>\n	<li>Learn how to effectively deliver the key messages.</li>\n	<li>Learn what experts are doing to prepare and how you can apply these strategies to ensure your speech has a lasting impact.</li>\n	<li>Learn about energy\, movement\, confidence and voice projection.</li>\n	<li>Hear tips on how to increase inspiration and impact of the speech.</li>\n	<li>Learn techniques that will help decrease anxiety and keep the focus on the message of the speech.</li>\n</ul>\n
LOCATION:Surrey Board of Trade Conference Room 101 - 14439 104th Ave Surrey\, BC
UID:e.749.2582
SEQUENCE:3
DTSTAMP:20260425T224118Z
URL:https://business.swrbot.com/events/details/april-29-2014-presentations-and-public-speaking-pt2-public-speaking-04-29-2014-2582
END:VEVENT

END:VCALENDAR
