BEGIN:VCALENDAR
VERSION:2.0
PRODID:-//ChamberMaster//Event Calendar 2.0//EN
METHOD:PUBLISH
X-PUBLISHED-TTL:P3D
REFRESH-INTERVAL:P3D
CALSCALE:GREGORIAN
BEGIN:VEVENT
DTSTART;VALUE=DATE:20090430
DTEND;VALUE=DATE:20090501
TRANSP:TRANSPARENT
X-MICROSOFT-CDO-ALLDAYEVENT:TRUE
SUMMARY:April 30\, '09 - 6 Ways to Grow Your Business
DESCRIPTION:
X-ALT-DESC;FMTTYPE=text/html:
LOCATION:
UID:e.749.1522
SEQUENCE:3
DTSTAMP:20260423T183454Z
URL:https://business.swrbot.com/events/details/april-30-09-6-ways-to-grow-your-business-04-30-2009-1522
END:VEVENT

END:VCALENDAR
