BEGIN:VCALENDAR
VERSION:2.0
PRODID:-//ChamberMaster//Event Calendar 2.0//EN
METHOD:PUBLISH
X-PUBLISHED-TTL:P3D
REFRESH-INTERVAL:P3D
CALSCALE:GREGORIAN
BEGIN:VEVENT
DTSTART:20160405T144500Z
DTEND:20160405T170000Z
X-MICROSOFT-CDO-ALLDAYEVENT:FALSE
SUMMARY:April 5\, 2016 - Succession and Estate Planning for Business Owners Workshop
DESCRIPTION:In this presentation\, Elyssa L. Lockhart will outline succession mechanisms to ensure the secure transfer of your corporate assets upon retirement or death\, and provide tips on avoiding litigation and reducing probate fees.\n\n\n\nThis workshop is facilitated by McQuarrie Hunter LLP
X-ALT-DESC;FMTTYPE=text/html:<div class="page" title="Page 1">\n<div class="layoutArea">\n<div class="column">\n<p><span style="font-family:arial\;"><span style="font-size: 12px\;">In this presentation\, Elyssa L. Lockhart will outline succession mechanisms to ensure the secure transfer of your corporate assets upon retirement or death\, and provide tips on avoiding litigation and reducing probate fees.</span></span><br />\n<br />\n<strong>This workshop is facilitated by McQuarrie Hunter LLP</strong><br />\n&nbsp\;</p>\n</div>\n</div>\n</div>\n
LOCATION:Surrey Board of Trade 101\, 14439 104 Avenue\, Surrey
UID:e.749.4867
SEQUENCE:3
DTSTAMP:20260424T065553Z
URL:https://business.swrbot.com/events/details/april-5-2016-succession-and-estate-planning-for-business-owners-workshop-04-05-2016-4867
END:VEVENT

END:VCALENDAR
