BEGIN:VCALENDAR
VERSION:2.0
PRODID:-//ChamberMaster//Event Calendar 2.0//EN
METHOD:PUBLISH
X-PUBLISHED-TTL:P3D
REFRESH-INTERVAL:P3D
CALSCALE:GREGORIAN
BEGIN:VEVENT
DTSTART;VALUE=DATE:20090408
DTEND;VALUE=DATE:20090409
TRANSP:TRANSPARENT
X-MICROSOFT-CDO-ALLDAYEVENT:TRUE
SUMMARY:April 8\, '09 International Trade Dinner & Export Awards
DESCRIPTION:
X-ALT-DESC;FMTTYPE=text/html:
LOCATION:
UID:e.749.1499
SEQUENCE:3
DTSTAMP:20260423T182627Z
URL:https://business.swrbot.com/events/details/april-8-09-international-trade-dinner-export-awards-04-08-2009-1499
END:VEVENT

END:VCALENDAR
