BEGIN:VCALENDAR
VERSION:2.0
PRODID:-//ChamberMaster//Event Calendar 2.0//EN
METHOD:PUBLISH
X-PUBLISHED-TTL:P3D
REFRESH-INTERVAL:P3D
CALSCALE:GREGORIAN
BEGIN:VEVENT
DTSTART:20100408T150000Z
DTEND:20100408T160000Z
X-MICROSOFT-CDO-ALLDAYEVENT:FALSE
SUMMARY:April 8\, 2010 - Coffee with the President
DESCRIPTION:
X-ALT-DESC;FMTTYPE=text/html:
LOCATION:Surrey Board of Trade Conference Room#101 - 14439 104 Avenue\, Surrey
UID:e.749.1641
SEQUENCE:3
DTSTAMP:20260422T204044Z
URL:https://business.swrbot.com/events/details/april-8-2010-coffee-with-the-president-04-08-2010-1641
END:VEVENT

END:VCALENDAR
