BEGIN:VCALENDAR
VERSION:2.0
PRODID:-//ChamberMaster//Event Calendar 2.0//EN
METHOD:PUBLISH
X-PUBLISHED-TTL:P3D
REFRESH-INTERVAL:P3D
CALSCALE:GREGORIAN
BEGIN:VEVENT
DTSTART:20140409T003000Z
DTEND:20140409T023000Z
X-MICROSOFT-CDO-ALLDAYEVENT:FALSE
SUMMARY:April 8\, 2014 - Business to Business Networking at MNP Surrey
DESCRIPTION:Business to Business Networking at MNP Surrey\n\n\n\nSpring has sprung!\n\n\n\nJoin MNP and your fellow Surrey Board of Trade members for some refreshments and BBQ treats on MNP's outdoor patio. Get to know the MNP team and connect with business leaders in our community. Stop by and enter the Chipping Contest to win prizes!\n\n\n\nNational in scope and local in focus\, MNP serves 16 locations in B.C. and more than 80 across Canada.\n\n\n\nWin Great Prizes! Make new business contacts!
X-ALT-DESC;FMTTYPE=text/html:Business to Business Networking at MNP Surrey<br />\n<br />\nSpring has sprung!<br />\n<br />\nJoin MNP and your fellow Surrey Board of Trade members for some refreshments and BBQ treats on MNP&rsquo\;s outdoor patio. Get to know the MNP team and connect with business leaders in our community. Stop by and enter the Chipping Contest to win prizes!<br />\n<br />\nNational in scope and local in focus\, MNP serves 16 locations in B.C. and more than 80 across Canada.<br />\n<br />\nWin Great Prizes! Make new business contacts!
LOCATION:MNP Surrey 316-5455 152 Street Surrey\, BC V3S 5A5
UID:e.749.2577
SEQUENCE:3
DTSTAMP:20260425T224337Z
URL:https://business.swrbot.com/events/details/april-8-2014-business-to-business-networking-at-mnp-surrey-04-08-2014-2577
END:VEVENT

END:VCALENDAR
