BEGIN:VCALENDAR
VERSION:2.0
PRODID:-//ChamberMaster//Event Calendar 2.0//EN
METHOD:PUBLISH
X-PUBLISHED-TTL:P3D
REFRESH-INTERVAL:P3D
CALSCALE:GREGORIAN
BEGIN:VEVENT
DTSTART:20170623T170000Z
DTEND:20170623T190000Z
X-MICROSOFT-CDO-ALLDAYEVENT:FALSE
SUMMARY:“Are you Ready to Start a Business?”
DESCRIPTION:Being your own boss can be one of the most rewarding endeavours and also the most risky. The goal of our many workshops is to provide new entrepreneurs with information and tools to help make your young business more financially stable and sustainable. In this seminar you will: * Learn about the current entrepreneurial landscape in BC * Identify many of the qualities that successful entrepreneurs share * Identify where your own entrepreneurial strengths and possibly weaknesses lay * Learn strategies to help you increase your "entrepreneurial rating"
X-ALT-DESC;FMTTYPE=text/html:Being your own boss can be one of the most rewarding endeavours and also the most risky. The goal of our many workshops is to provide new entrepreneurs with information and tools to help make your young business more financially stable and sustainable. In this seminar you will: * Learn about the current entrepreneurial landscape in BC * Identify many of the qualities that successful entrepreneurs share * Identify where your own entrepreneurial strengths and possibly weaknesses lay * Learn strategies to help you increase your &ldquo\;entrepreneurial rating&rdquo\;
LOCATION:13455 76 Avenue\, Surrey\, BC V3W2W3
UID:e.749.5367
SEQUENCE:3
DTSTAMP:20260422T001149Z
URL:https://business.swrbot.com/events/details/are-you-ready-to-start-a-business-06-23-2017-5367
END:VEVENT

END:VCALENDAR
