BEGIN:VCALENDAR
VERSION:2.0
PRODID:-//ChamberMaster//Event Calendar 2.0//EN
METHOD:PUBLISH
X-PUBLISHED-TTL:P3D
REFRESH-INTERVAL:P3D
CALSCALE:GREGORIAN
BEGIN:VEVENT
DTSTART:20140920T180000Z
DTEND:20140920T230000Z
X-MICROSOFT-CDO-ALLDAYEVENT:FALSE
SUMMARY:Art in the City: Studio Tour 2014
DESCRIPTION:We are very excited to announce the inaugural Art in the City Studio Tour. This premiere event will be held on Saturday\, September 20\, 2014 from 11:00am to 4:00pm. Artists and artisans from all around Surrey will open their studio doors and provide a unique opportunity to showcase their original work to both visitors and residents. Through demonstration\, exhibition\, and engagement\, visitors to the studios will receive a meaningful and enlightening experience on the arts in Surrey.\n\nFor this first year\, 14 artists and artisans will be featured at 10 different locations around the city. At each site\, gain a unique opportunity to watch an artist work on their craft: from using watercolours to create gorgeous landscapes to watching glass blowing in action. Shop around and find the perfect art piece to add to your collection. If you love what you see\, learn more on taking workshops from the professionals.\n\nThis self-guided Studio Tour will be a one-day event so plan your day accordingly and choose which studios to visit. For more information about the Art in the City such as artist information\, maps and brochures\, visit tourismsurrey.com/studiotour.
X-ALT-DESC;FMTTYPE=text/html:<p style="box-sizing: border-box\; margin: 0px 0px 20px\; color: rgb(105\, 105\, 105)\; font-family: 'Open Sans'\, sans-serif\; font-size: 14px\; line-height: 23.799999237060547px\;">We are very excited to announce the inaugural Art in the City Studio Tour. This premiere event will be held on Saturday\, September 20\, 2014 from 11:00am to 4:00pm. Artists and artisans from all around Surrey will open their studio doors and provide a unique opportunity to showcase their original work to both visitors and residents. Through demonstration\, exhibition\, and engagement\, visitors to the studios will receive a meaningful and enlightening experience on the arts in Surrey.</p>\n\n<p style="box-sizing: border-box\; margin: 0px 0px 20px\; color: rgb(105\, 105\, 105)\; font-family: 'Open Sans'\, sans-serif\; font-size: 14px\; line-height: 23.799999237060547px\;">For this first year\, 14 artists and artisans will be featured at 10 different locations around the city. At each site\, gain a unique opportunity to watch an artist work on their craft: from using watercolours to create gorgeous landscapes to watching glass blowing in action. Shop around and find the perfect art piece to add to your collection. If you love what you see\, learn more on taking workshops from the professionals.</p>\n\n<p style="box-sizing: border-box\; margin: 0px 0px 20px\; color: rgb(105\, 105\, 105)\; font-family: 'Open Sans'\, sans-serif\; font-size: 14px\; line-height: 23.799999237060547px\;">This self-guided Studio Tour will be a one-day event so plan your day accordingly and choose which studios to visit. For more information about the Art in the City such as artist information\, maps and brochures\, visit tourismsurrey.com/studiotour.</p>\n
LOCATION:Newton Cultural Centre & Multiple Locations
UID:e.749.2751
SEQUENCE:3
DTSTAMP:20260425T163958Z
URL:https://business.swrbot.com/events/details/art-in-the-city-studio-tour-2014-09-20-2014-2751
END:VEVENT

END:VCALENDAR
