BEGIN:VCALENDAR
VERSION:2.0
PRODID:-//ChamberMaster//Event Calendar 2.0//EN
METHOD:PUBLISH
X-PUBLISHED-TTL:P3D
REFRESH-INTERVAL:P3D
CALSCALE:GREGORIAN
BEGIN:VEVENT
DTSTART:20200506T010000Z
DTEND:20200529T020000Z
X-MICROSOFT-CDO-ALLDAYEVENT:FALSE
SUMMARY:Ask a Trustee Webinar Series
DESCRIPTION:Thank you for all you're doing to help Canadians weather this financial crisis! Here's what we are doing and how you\, your team and your clients/participants can benefit. Our amazing VP Insolvency\, Shawn Stack\, has committed to being available every Tuesday and Thursday evening 7pm to 8pm MDT in May to assist Canadians who may be struggling with debt or just have some burning questions in regards to managing debt and navigating the options available. As a valued partner of Bromwich+Smith\, this is your exclusive invitation to our Ask a Trustee Webinar Series. This will be a safe\, judgement free and confidential webinar series to get to know Shawn\, our company culture and values and gain clarity in these uncertain times. The webinar will be interactive via Telus Business Connect Meetings. Attendees can enter their own name or fictitious name like 'The Rock'\, 'JLo' or whatever they want. They do not need to turn on their cameras and they will have an opportunity to ask questions in the chat box as well as to connect to and learn from a community. What we need from you: Invite your clients/participants\, your friends and family and your teams to this exclusive webinar and 'like' and 'share' the series marketing on our social media platforms. Where you can find information for the series: https://www.bromwichandsmith.com/events Please Attend one of the webinars yourself so you can see and hear Shawn speak\, get an idea of the types of questions coming in and so you can share the event with more conviction. Please let me know if you have any questions or feedback. Thank you and let's blow people away with our investment in adding value to them and providing impartial+unbiased information+resources.
X-ALT-DESC;FMTTYPE=text/html:Thank you for all you&#39\;re doing to help Canadians weather this financial crisis! Here&#39\;s what we are doing and how you\, your team and your clients/participants can benefit. Our amazing VP Insolvency\, Shawn Stack\, has committed to being available every Tuesday and Thursday evening 7pm to 8pm MDT in May to assist Canadians who may be struggling with debt or just have some burning questions in regards to managing debt and navigating the options available. As a valued partner of Bromwich+Smith\, this is your exclusive invitation to our Ask a Trustee Webinar Series. This will be a safe\, judgement free and confidential webinar series to get to know Shawn\, our company culture and values and gain clarity in these uncertain times. The webinar will be interactive via Telus Business Connect Meetings. Attendees can enter their own name or fictitious name like &#39\;The Rock&#39\;\, &#39\;JLo&#39\; or whatever they want. They do not need to turn on their cameras and they will have an opportunity to ask questions in the chat box as well as to connect to and learn from a community. What we need from you: Invite your clients/participants\, your friends and family and your teams to this exclusive webinar and &lsquo\;like&rsquo\; and &lsquo\;share&rsquo\; the series marketing on our social media platforms. Where you can find information for the series: https://www.bromwichandsmith.com/events Please Attend one of the webinars yourself so you can see and hear Shawn speak\, get an idea of the types of questions coming in and so you can share the event with more conviction. Please let me know if you have any questions or feedback. Thank you and let&rsquo\;s blow people away with our investment in adding value to them and providing impartial+unbiased information+resources.
LOCATION:online https://www.eventbrite.ca/e/bromwichsmith-exclusive-ask-a-trustee-free-webinar-tickets-103543364992
UID:e.749.11080
SEQUENCE:3
DTSTAMP:20260420T020139Z
URL:https://business.swrbot.com/events/details/ask-a-trustee-webinar-series-05-05-2020-11080
END:VEVENT

END:VCALENDAR
