BEGIN:VCALENDAR
VERSION:2.0
PRODID:-//ChamberMaster//Event Calendar 2.0//EN
METHOD:PUBLISH
X-PUBLISHED-TTL:P3D
REFRESH-INTERVAL:P3D
CALSCALE:GREGORIAN
BEGIN:VEVENT
DTSTART:20180802T003000Z
DTEND:20180802T023000Z
X-MICROSOFT-CDO-ALLDAYEVENT:FALSE
SUMMARY:August 1\, 2018 - Summer Sizzle Networking Series at Central City Brew Pub!
DESCRIPTION:The original location for their Central City brewery\, this brewpub is the foundation for Central City. Beer made here help them win the Canadian Brewing Awards "Brewery of the Year" in both 2010 and 2012. Come try their best craft beer!\n\n\n\nEnjoy a complimentary drink\, appetizers\, and great company!
X-ALT-DESC;FMTTYPE=text/html:The original location for their Central City brewery\, this brewpub is the foundation for Central City. Beer made here help them win the Canadian Brewing Awards &ldquo\;Brewery of the Year&rdquo\; in both 2010 and 2012. Come try their best craft beer!<br />\n<br />\nEnjoy a complimentary drink\, appetizers\, and great company!&nbsp\;<br />\n&nbsp\;
LOCATION:Central City Brew Pub 13450 102 Ave\, Surrey
UID:e.749.9458
SEQUENCE:3
DTSTAMP:20260421T065158Z
URL:https://business.swrbot.com/events/details/august-1-2018-summer-sizzle-networking-series-at-central-city-brew-pub-08-01-2018-9458
END:VEVENT

END:VCALENDAR
