BEGIN:VCALENDAR
VERSION:2.0
PRODID:-//ChamberMaster//Event Calendar 2.0//EN
METHOD:PUBLISH
X-PUBLISHED-TTL:P3D
REFRESH-INTERVAL:P3D
CALSCALE:GREGORIAN
BEGIN:VEVENT
DTSTART:20180816T003000Z
DTEND:20180816T023000Z
X-MICROSOFT-CDO-ALLDAYEVENT:FALSE
SUMMARY:August 15\, 2018 - Summer Sizzle Networking Series at Famoso!
DESCRIPTION:Famoso Guildford serves authentic Neapolitan Pizza \, artisan pastas\, and\n\ngreat appetizers in an upbeat\, casual atmosphere. With a full bar\, it is a great\n\nplace to enjoy a local craft beer or sip on a glass of wine on the sun-filled patio.\n\n\n\nEnjoy a complimentary drink\, appetizers\, and great company!
X-ALT-DESC;FMTTYPE=text/html:Famoso Guildford serves authentic Neapolitan Pizza \, artisan pastas\, and<br />\ngreat appetizers in an upbeat\, casual atmosphere. With a full bar\, it is a great<br />\nplace to enjoy a local craft beer or sip on a glass of wine on the sun-filled patio.<br />\n<br />\nEnjoy a complimentary drink\, appetizers\, and great company!&nbsp\;
LOCATION:Famoso Guildford 10355 152 Street\, Surrey
UID:e.749.9459
SEQUENCE:3
DTSTAMP:20260421T065317Z
URL:https://business.swrbot.com/events/details/august-15-2018-summer-sizzle-networking-series-at-famoso-08-15-2018-9459
END:VEVENT

END:VCALENDAR
